BEGIN:VCALENDAR
VERSION:2.0
PRODID:-//FOHBC - ECPv6.15.20//NONSGML v1.0//EN
CALSCALE:GREGORIAN
METHOD:PUBLISH
X-WR-CALNAME:FOHBC
X-ORIGINAL-URL:https://fohbc.org
X-WR-CALDESC:Events for FOHBC
REFRESH-INTERVAL;VALUE=DURATION:PT1H
X-Robots-Tag:noindex
X-PUBLISHED-TTL:PT1H
BEGIN:VTIMEZONE
TZID:America/Chicago
BEGIN:DAYLIGHT
TZOFFSETFROM:-0600
TZOFFSETTO:-0500
TZNAME:CDT
DTSTART:20240310T080000
END:DAYLIGHT
BEGIN:STANDARD
TZOFFSETFROM:-0500
TZOFFSETTO:-0600
TZNAME:CST
DTSTART:20241103T070000
END:STANDARD
BEGIN:DAYLIGHT
TZOFFSETFROM:-0600
TZOFFSETTO:-0500
TZNAME:CDT
DTSTART:20250309T080000
END:DAYLIGHT
BEGIN:STANDARD
TZOFFSETFROM:-0500
TZOFFSETTO:-0600
TZNAME:CST
DTSTART:20251102T070000
END:STANDARD
BEGIN:DAYLIGHT
TZOFFSETFROM:-0600
TZOFFSETTO:-0500
TZNAME:CDT
DTSTART:20260308T080000
END:DAYLIGHT
BEGIN:STANDARD
TZOFFSETFROM:-0500
TZOFFSETTO:-0600
TZNAME:CST
DTSTART:20261101T070000
END:STANDARD
END:VTIMEZONE
BEGIN:VEVENT
DTSTART;TZID=America/Chicago:20250916T190000
DTEND;TZID=America/Chicago:20250916T210000
DTSTAMP:20260424T072744
CREATED:20250818T165956Z
LAST-MODIFIED:20250915T170555Z
UID:10000037-1758049200-1758056400@fohbc.org
SUMMARY:FOHBC Poisons Webinar Part 3
DESCRIPTION:Join us online as Vern Huffstetler\, Tim Adams and Joan Cabaniss present their third in a series of three presentations designed to inform us about Poison bottles.  This seminar will focus on Midwestern Companies as well as drug stores with custom bottles.  I’m sure we all have a poison or two in our collections. \nIf you would like to attend\, or have other ideas about seminars\, please contact FOHBC President Michael Seeliger (608-575-2922 | president@fohbc.org).
URL:https://fohbc.org/event/fohbc-poisons-webinar-part-3/
LOCATION:Zoom Webinar
CATEGORIES:Seminar,Webinar
ATTACH;FMTTYPE=image/jpeg:https://fohbc.org/wp-content/uploads/2025/08/poisons-seminar-1.jpg
ORGANIZER;CN="Michael Seeliger":MAILTO:president@fohbc.org
END:VEVENT
END:VCALENDAR