BEGIN:VCALENDAR
VERSION:2.0
PRODID:-//FOHBC - ECPv6.15.20//NONSGML v1.0//EN
CALSCALE:GREGORIAN
METHOD:PUBLISH
X-WR-CALNAME:FOHBC
X-ORIGINAL-URL:https://fohbc.org
X-WR-CALDESC:Events for FOHBC
REFRESH-INTERVAL;VALUE=DURATION:PT1H
X-Robots-Tag:noindex
X-PUBLISHED-TTL:PT1H
BEGIN:VTIMEZONE
TZID:America/Chicago
BEGIN:DAYLIGHT
TZOFFSETFROM:-0600
TZOFFSETTO:-0500
TZNAME:CDT
DTSTART:20240310T080000
END:DAYLIGHT
BEGIN:STANDARD
TZOFFSETFROM:-0500
TZOFFSETTO:-0600
TZNAME:CST
DTSTART:20241103T070000
END:STANDARD
BEGIN:DAYLIGHT
TZOFFSETFROM:-0600
TZOFFSETTO:-0500
TZNAME:CDT
DTSTART:20250309T080000
END:DAYLIGHT
BEGIN:STANDARD
TZOFFSETFROM:-0500
TZOFFSETTO:-0600
TZNAME:CST
DTSTART:20251102T070000
END:STANDARD
BEGIN:DAYLIGHT
TZOFFSETFROM:-0600
TZOFFSETTO:-0500
TZNAME:CDT
DTSTART:20260308T080000
END:DAYLIGHT
BEGIN:STANDARD
TZOFFSETFROM:-0500
TZOFFSETTO:-0600
TZNAME:CST
DTSTART:20261101T070000
END:STANDARD
END:VTIMEZONE
BEGIN:VEVENT
DTSTART;TZID=America/Chicago:20251021T190000
DTEND;TZID=America/Chicago:20251021T210000
DTSTAMP:20260424T104255
CREATED:20251009T150948Z
LAST-MODIFIED:20251009T152317Z
UID:10000056-1761073200-1761080400@fohbc.org
SUMMARY:FOHBC Webinar 24 - Strange Advertising Items
DESCRIPTION:We will explore the strange and unusual advertising items that patent medicines and other manufacturers used to advertise their products. Not just trade cards\, signs and posters but also odd items that they used.  Join us via Zoom on Tuesday October 21\, 2025 at 7pm CDT. RSVP at president@fohbc.org unless you are already on the seminar invite list. You will receive an email invitation for the Zoom meeting. \nSend in your unusual advertising items prior to the event or have them ready to show the attendees at the meeting!
URL:https://fohbc.org/event/strange-advertising-items/
LOCATION:Zoom Webinar
CATEGORIES:Seminar,Webinar
ATTACH;FMTTYPE=image/jpeg:https://fohbc.org/wp-content/uploads/2025/10/FOHBC-Webinar-21-Oct-2025-v2.jpg
ORGANIZER;CN="Michael Seeliger":MAILTO:president@fohbc.org
END:VEVENT
END:VCALENDAR