BEGIN:VCALENDAR
VERSION:2.0
PRODID:-//FOHBC - ECPv6.15.20//NONSGML v1.0//EN
CALSCALE:GREGORIAN
METHOD:PUBLISH
X-ORIGINAL-URL:https://fohbc.org
X-WR-CALDESC:Events for FOHBC
REFRESH-INTERVAL;VALUE=DURATION:PT1H
X-Robots-Tag:noindex
X-PUBLISHED-TTL:PT1H
BEGIN:VTIMEZONE
TZID:America/Chicago
BEGIN:DAYLIGHT
TZOFFSETFROM:-0600
TZOFFSETTO:-0500
TZNAME:CDT
DTSTART:20250309T080000
END:DAYLIGHT
BEGIN:STANDARD
TZOFFSETFROM:-0500
TZOFFSETTO:-0600
TZNAME:CST
DTSTART:20251102T070000
END:STANDARD
BEGIN:DAYLIGHT
TZOFFSETFROM:-0600
TZOFFSETTO:-0500
TZNAME:CDT
DTSTART:20260308T080000
END:DAYLIGHT
BEGIN:STANDARD
TZOFFSETFROM:-0500
TZOFFSETTO:-0600
TZNAME:CST
DTSTART:20261101T070000
END:STANDARD
BEGIN:DAYLIGHT
TZOFFSETFROM:-0600
TZOFFSETTO:-0500
TZNAME:CDT
DTSTART:20270314T080000
END:DAYLIGHT
BEGIN:STANDARD
TZOFFSETFROM:-0500
TZOFFSETTO:-0600
TZNAME:CST
DTSTART:20271107T070000
END:STANDARD
END:VTIMEZONE
BEGIN:VEVENT
DTSTART;TZID=America/Chicago:20260419T090000
DTEND;TZID=America/Chicago:20260419T140000
DTSTAMP:20260422T171313
CREATED:20251213T160848Z
LAST-MODIFIED:20251213T160848Z
UID:10000090-1776589200-1776607200@fohbc.org
SUMMARY:St. Louis Antique Bottle Collectors Assn's 56th Annual Antique Bottle & Jar Show
DESCRIPTION:
URL:https://fohbc.org/event/st-louis-antique-bottle-collectors-assns-56th-annual-antique-bottle-jar-show/
LOCATION:Orlando Gardens\, 4300 Hoffmeister Ave\, St. Louis\, MO\, 63125\, United States
CATEGORIES:Shows
ATTACH;FMTTYPE=image/jpeg:https://fohbc.org/wp-content/uploads/2025/12/St-Louis-19-Apr-2026.jpg
ORGANIZER;CN="Pat Jett (Showchair)":MAILTO:patsy_jett@yahoo.com
END:VEVENT
BEGIN:VEVENT
DTSTART;TZID=America/Chicago:20260419T093000
DTEND;TZID=America/Chicago:20260419T143000
DTSTAMP:20260422T171313
CREATED:20251208T023010Z
LAST-MODIFIED:20260129T000933Z
UID:10000081-1776591000-1776609000@fohbc.org
SUMMARY:North Star Historical Bottle Assn's 54th Annual Antique Bottle\, Advertising and Stoneware Show and Sale
DESCRIPTION:
URL:https://fohbc.org/event/north-star-historical-bottle-assns-54th-annual-antique-bottle-advertising-and-stoneware-show-and-sale/
LOCATION:Knights of Columbus Event Center\, 1114 American Blvd W\, Bloomington\, MT\, 55420\, United States
CATEGORIES:Shows
ATTACH;FMTTYPE=image/jpeg:https://fohbc.org/wp-content/uploads/2025/12/North-Star-HBA-19-Apr-2026-v2.jpg
ORGANIZER;CN="Steve Ketcham":MAILTO:steve@antiquebottledepot.com
END:VEVENT
END:VCALENDAR