BEGIN:VCALENDAR
VERSION:2.0
PRODID:-//FOHBC - ECPv6.15.20//NONSGML v1.0//EN
CALSCALE:GREGORIAN
METHOD:PUBLISH
X-WR-CALNAME:FOHBC
X-ORIGINAL-URL:https://fohbc.org
X-WR-CALDESC:Events for FOHBC
REFRESH-INTERVAL;VALUE=DURATION:PT1H
X-Robots-Tag:noindex
X-PUBLISHED-TTL:PT1H
BEGIN:VTIMEZONE
TZID:America/Chicago
BEGIN:DAYLIGHT
TZOFFSETFROM:-0600
TZOFFSETTO:-0500
TZNAME:CDT
DTSTART:20250309T080000
END:DAYLIGHT
BEGIN:STANDARD
TZOFFSETFROM:-0500
TZOFFSETTO:-0600
TZNAME:CST
DTSTART:20251102T070000
END:STANDARD
BEGIN:DAYLIGHT
TZOFFSETFROM:-0600
TZOFFSETTO:-0500
TZNAME:CDT
DTSTART:20260308T080000
END:DAYLIGHT
BEGIN:STANDARD
TZOFFSETFROM:-0500
TZOFFSETTO:-0600
TZNAME:CST
DTSTART:20261101T070000
END:STANDARD
BEGIN:DAYLIGHT
TZOFFSETFROM:-0600
TZOFFSETTO:-0500
TZNAME:CDT
DTSTART:20270314T080000
END:DAYLIGHT
BEGIN:STANDARD
TZOFFSETFROM:-0500
TZOFFSETTO:-0600
TZNAME:CST
DTSTART:20271107T070000
END:STANDARD
END:VTIMEZONE
BEGIN:VEVENT
DTSTART;TZID=America/Chicago:20260301T090000
DTEND;TZID=America/Chicago:20260301T140000
DTSTAMP:20260423T043707
CREATED:20251213T153002Z
LAST-MODIFIED:20251213T153002Z
UID:10000088-1772355600-1772373600@fohbc.org
SUMMARY:Central Ohio Bottle Club's 55th Annual Columbus Bottle Show
DESCRIPTION:
URL:https://fohbc.org/event/central-ohio-bottle-clubs-55th-annual-columbus-bottle-show/
LOCATION:Franklin County Fairgrounds\, Edwards Building\, 5035 Northwest Parkway\, Hilliard\, OH\, 43026\, United States
CATEGORIES:Shows
ATTACH;FMTTYPE=image/jpeg:https://fohbc.org/wp-content/uploads/2025/12/Columbus-OH-1-Mar-2026.jpg
ORGANIZER;CN="Rojer Moody":MAILTO:rojermoody50@gmail.com
END:VEVENT
BEGIN:VEVENT
DTSTART;TZID=America/Chicago:20260313T090000
DTEND;TZID=America/Chicago:20260314T160000
DTSTAMP:20260423T043707
CREATED:20260205T222110Z
LAST-MODIFIED:20260205T222149Z
UID:10000109-1773392400-1773504000@fohbc.org
SUMMARY:Chico/Oroville Antique Bottle Show & Sale
DESCRIPTION:Tables $25 / limit 2.  3 Bottles to be raffled off. Dealer loading through roll up doors at back of building.
URL:https://fohbc.org/event/chico-oroville-antique-bottle-show-sale/
LOCATION:Gold Country Casino Resort\, 4020 Olive Highway\, Oroville\, CA\, 95966\, United States
CATEGORIES:Shows
ATTACH;FMTTYPE=image/jpeg:https://fohbc.org/wp-content/uploads/2026/02/Chico-Oroville-March-2026.jpg
END:VEVENT
BEGIN:VEVENT
DTSTART;TZID=America/Chicago:20260314T080000
DTEND;TZID=America/Chicago:20260314T150000
DTSTAMP:20260423T043707
CREATED:20251202T223158Z
LAST-MODIFIED:20251202T223158Z
UID:10000077-1773475200-1773500400@fohbc.org
SUMMARY:San Gabriel Valley Vintage Market & Bottle Show
DESCRIPTION:
URL:https://fohbc.org/event/san-gabriel-valley-vintage-market-bottle-show/
LOCATION:Duarte Elk’s Lodge\, 2436 Huntington Drive\, Duarte\, CA\, 91010\, United States
CATEGORIES:Shows
ATTACH;FMTTYPE=image/jpeg:https://fohbc.org/wp-content/uploads/2025/12/San-Gabriel-Valley-14-March-2026.jpg
ORGANIZER;CN="Don Wippert":MAILTO:donwippert1@gmail.com
END:VEVENT
BEGIN:VEVENT
DTSTART;VALUE=DATE:20260319
DTEND;VALUE=DATE:20260322
DTSTAMP:20260423T043707
CREATED:20260107T000603Z
LAST-MODIFIED:20260107T000733Z
UID:10000094-1773878400-1774137599@fohbc.org
SUMMARY:Pepsi-Cola Collectors Club's 40th Annual Pepsi Fest
DESCRIPTION:
URL:https://fohbc.org/event/pepsi-cola-collectors-clubs-40th-annual-pepsi-fest/
LOCATION:Griffin Gate Marriott Resort & Spa\, 1800 Newton Pike\, Lexington\, KY\, 40511\, United States
CATEGORIES:Shows
ATTACH;FMTTYPE=image/jpeg:https://fohbc.org/wp-content/uploads/2026/01/Pepsi-Collectors-Club-19-20-Mar-2026.jpg
ORGANIZER;CN="Pepsi-Cola Collectors Club Secretary":MAILTO:secretary@pepsi-colacollectorsclub.com
END:VEVENT
BEGIN:VEVENT
DTSTART;VALUE=DATE:20260320
DTEND;VALUE=DATE:20260322
DTSTAMP:20260423T043707
CREATED:20251023T023824Z
LAST-MODIFIED:20251103T143356Z
UID:10000060-1773964800-1774137599@fohbc.org
SUMMARY:Oregon Bottle Collectors Association's Bottle\, Antique & Collectibles Show & Sale
DESCRIPTION:
URL:https://fohbc.org/event/oregon-bottle-collectors-associations-bottle-antique-collectibles-show-sale/
LOCATION:American Legion Hall\, 21510 Main Street NE\, Aurora\, OR\, United States
CATEGORIES:Shows
ATTACH;FMTTYPE=image/jpeg:https://fohbc.org/wp-content/uploads/2025/10/Oregon-BCA-20-21-Mar-2026.jpg
ORGANIZER;CN="Wayne Herring - Show Chairman":MAILTO:billbogy7@gmail.com
END:VEVENT
BEGIN:VEVENT
DTSTART;TZID=America/Chicago:20260321T090000
DTEND;TZID=America/Chicago:20260321T150000
DTSTAMP:20260423T043707
CREATED:20251026T142117Z
LAST-MODIFIED:20251026T220217Z
UID:10000065-1774083600-1774105200@fohbc.org
SUMMARY:Mobile Bottle Collectors Club's 53rd Annual Antique Bottle & Collectibles Show & Sale
DESCRIPTION:Sales table application and more dealer info here.
URL:https://fohbc.org/event/mobile-bottle-collectors-clubs-53rd-annual-antique-bottle-collectibles-show-sale/
LOCATION:Daphne Civic Center\, 2603 US Hwy 98\, Daphne\, AL\, 36526\, United States
CATEGORIES:Shows
ATTACH;FMTTYPE=image/jpeg:https://fohbc.org/wp-content/uploads/2025/10/Mobile-BCC-21-Mar-2026.jpg
ORGANIZER;CN="Rod Vining":MAILTO:vinewood@mchsi.com
END:VEVENT
BEGIN:VEVENT
DTSTART;TZID=America/Chicago:20260322T090000
DTEND;TZID=America/Chicago:20260322T130000
DTSTAMP:20260423T043707
CREATED:20260129T170502Z
LAST-MODIFIED:20260129T170502Z
UID:10000108-1774170000-1774184400@fohbc.org
SUMMARY:Somers Antique Bottle Club Presents the 55th Annual Antique and Bottle Show and Sale
DESCRIPTION:
URL:https://fohbc.org/event/somers-antique-bottle-club-presents-the-55th-annual-antique-and-bottle-show-and-sale/
LOCATION:Joanna’s Restaurant Banquet Room\, 145 Main Street Route 190\, Somers\, CT\, United States
CATEGORIES:Shows
ATTACH;FMTTYPE=image/jpeg:https://fohbc.org/wp-content/uploads/2026/01/Somers-ABC-March-2026.jpg
ORGANIZER;CN="Rick Ciralli":MAILTO:cirallir@gmail.com
END:VEVENT
BEGIN:VEVENT
DTSTART;TZID=America/Chicago:20260322T090000
DTEND;TZID=America/Chicago:20260322T143000
DTSTAMP:20260423T043707
CREATED:20250926T233847Z
LAST-MODIFIED:20260129T005443Z
UID:10000045-1774170000-1774189800@fohbc.org
SUMMARY:Flint Bottle & Collectibles Club's 56th Annual Show & Sale
DESCRIPTION:Admission: $3.00
URL:https://fohbc.org/event/flint-bottle-collectibles-clubs-56th-annual-show-sale/
LOCATION:Dom Polski Hall\, 3415 N. Linden Road\, Flint\, MI\, 48504\, United States
CATEGORIES:Shows
ATTACH;FMTTYPE=image/jpeg:https://fohbc.org/wp-content/uploads/2025/09/Flint-March-2026.jpg
END:VEVENT
BEGIN:VEVENT
DTSTART;TZID=America/Chicago:20260329T090000
DTEND;TZID=America/Chicago:20260329T140000
DTSTAMP:20260423T043707
CREATED:20260121T000859Z
LAST-MODIFIED:20260121T000859Z
UID:10000102-1774774800-1774792800@fohbc.org
SUMMARY:19th Annual Kansas Territory Bottle\, Insulator & Post Card Show & Sale
DESCRIPTION:
URL:https://fohbc.org/event/19th-annual-kansas-territory-bottle-insulator-post-card-show-sale/
LOCATION:Kansas State Fairgrounds\, Pride of Kansas Building\, 2000 N. Poplar Street\, Hutchinson\, KS\, 67502\, United States
CATEGORIES:Shows
ATTACH;FMTTYPE=image/jpeg:https://fohbc.org/wp-content/uploads/2026/01/Kansas-Territory-March-2026.jpg
ORGANIZER;CN="Stan Hendershot":MAILTO:stanh1907@outlook.com
END:VEVENT
BEGIN:VEVENT
DTSTART;TZID=America/Chicago:20260329T090000
DTEND;TZID=America/Chicago:20260329T150000
DTSTAMP:20260423T043707
CREATED:20251017T220047Z
LAST-MODIFIED:20251017T220047Z
UID:10000057-1774774800-1774796400@fohbc.org
SUMMARY:Baltimore Antique Bottle Club's 45th Annual Show & Sale
DESCRIPTION:
URL:https://fohbc.org/event/baltimore-antique-bottle-clubs-45th-annual-show-sale/
LOCATION:Howard County Fairgrounds Main Exhibition Hall\, 2210 Fairgrounds Road\, West Friendship\, MD\, 21794\, United States
CATEGORIES:Shows
ATTACH;FMTTYPE=image/jpeg:https://fohbc.org/wp-content/uploads/2025/10/Baltimore-ABC-March-2026.jpg
ORGANIZER;CN="Shawn Peters - Show Director":MAILTO:baltimorebottleshow.babc@gmail.com
END:VEVENT
END:VCALENDAR