BEGIN:VCALENDAR
VERSION:2.0
PRODID:-//FOHBC - ECPv6.15.20//NONSGML v1.0//EN
CALSCALE:GREGORIAN
METHOD:PUBLISH
X-WR-CALNAME:FOHBC
X-ORIGINAL-URL:https://fohbc.org
X-WR-CALDESC:Events for FOHBC
REFRESH-INTERVAL;VALUE=DURATION:PT1H
X-Robots-Tag:noindex
X-PUBLISHED-TTL:PT1H
BEGIN:VTIMEZONE
TZID:America/Chicago
BEGIN:DAYLIGHT
TZOFFSETFROM:-0600
TZOFFSETTO:-0500
TZNAME:CDT
DTSTART:20250309T080000
END:DAYLIGHT
BEGIN:STANDARD
TZOFFSETFROM:-0500
TZOFFSETTO:-0600
TZNAME:CST
DTSTART:20251102T070000
END:STANDARD
BEGIN:DAYLIGHT
TZOFFSETFROM:-0600
TZOFFSETTO:-0500
TZNAME:CDT
DTSTART:20260308T080000
END:DAYLIGHT
BEGIN:STANDARD
TZOFFSETFROM:-0500
TZOFFSETTO:-0600
TZNAME:CST
DTSTART:20261101T070000
END:STANDARD
BEGIN:DAYLIGHT
TZOFFSETFROM:-0600
TZOFFSETTO:-0500
TZNAME:CDT
DTSTART:20270314T080000
END:DAYLIGHT
BEGIN:STANDARD
TZOFFSETFROM:-0500
TZOFFSETTO:-0600
TZNAME:CST
DTSTART:20271107T070000
END:STANDARD
END:VTIMEZONE
BEGIN:VEVENT
DTSTART;TZID=America/Chicago:20260418T080000
DTEND;TZID=America/Chicago:20260418T140000
DTSTAMP:20260422T172052
CREATED:20251031T144221Z
LAST-MODIFIED:20251031T144221Z
UID:10000069-1776499200-1776520800@fohbc.org
SUMMARY:Pennsylvania Bottle Collectors Association's 2nd Annual Bottle Show & Sale
DESCRIPTION:
URL:https://fohbc.org/event/pennsylvania-bottle-collectors-associations-2nd-annual-bottle-show-sale/
LOCATION:Dover Township Community Center\, 3700 Davidsburg Road\, Dover\, PA\, 17315\, United States
CATEGORIES:Shows
ATTACH;FMTTYPE=image/jpeg:https://fohbc.org/wp-content/uploads/2025/10/Pennsylvania-BCA-18-April-2026.jpg
ORGANIZER;CN="Gregory Druck":MAILTO:gdruck3141@comcast.net
END:VEVENT
BEGIN:VEVENT
DTSTART;TZID=America/Chicago:20260418T090000
DTEND;TZID=America/Chicago:20260418T140000
DTSTAMP:20260422T172052
CREATED:20260120T140518Z
LAST-MODIFIED:20260120T140638Z
UID:10000100-1776502800-1776520800@fohbc.org
SUMMARY:1st Annual Blue Ridge Bottle Show
DESCRIPTION:Food trucks on site. Great parking. Two miles from Interstate 77 at Exit 14 in Virginia.
URL:https://fohbc.org/event/1st-annual-blue-ridge-bottle-show/
LOCATION:Grover King VFW Post 1115\, 701 West Stuard Drive\, Hillsville\, VA\, 24343\, United States
CATEGORIES:Shows
ATTACH;FMTTYPE=image/jpeg:https://fohbc.org/wp-content/uploads/2026/01/Blue-Ridge-Bottle-Show-18-April-2026.jpg
ORGANIZER;CN="Blue Ridge Show Organizer":MAILTO:blueridgebottleshow@gmail.com
END:VEVENT
END:VCALENDAR