BEGIN:VCALENDAR
VERSION:2.0
PRODID:-//FOHBC - ECPv6.15.20//NONSGML v1.0//EN
CALSCALE:GREGORIAN
METHOD:PUBLISH
X-ORIGINAL-URL:https://fohbc.org
X-WR-CALDESC:Events for FOHBC
REFRESH-INTERVAL;VALUE=DURATION:PT1H
X-Robots-Tag:noindex
X-PUBLISHED-TTL:PT1H
BEGIN:VTIMEZONE
TZID:America/Chicago
BEGIN:DAYLIGHT
TZOFFSETFROM:-0600
TZOFFSETTO:-0500
TZNAME:CDT
DTSTART:20240310T080000
END:DAYLIGHT
BEGIN:STANDARD
TZOFFSETFROM:-0500
TZOFFSETTO:-0600
TZNAME:CST
DTSTART:20241103T070000
END:STANDARD
BEGIN:DAYLIGHT
TZOFFSETFROM:-0600
TZOFFSETTO:-0500
TZNAME:CDT
DTSTART:20250309T080000
END:DAYLIGHT
BEGIN:STANDARD
TZOFFSETFROM:-0500
TZOFFSETTO:-0600
TZNAME:CST
DTSTART:20251102T070000
END:STANDARD
BEGIN:DAYLIGHT
TZOFFSETFROM:-0600
TZOFFSETTO:-0500
TZNAME:CDT
DTSTART:20260308T080000
END:DAYLIGHT
BEGIN:STANDARD
TZOFFSETFROM:-0500
TZOFFSETTO:-0600
TZNAME:CST
DTSTART:20261101T070000
END:STANDARD
END:VTIMEZONE
BEGIN:VEVENT
DTSTART;TZID=America/Chicago:20251011T080000
DTEND;TZID=America/Chicago:20251011T140000
DTSTAMP:20260423T012035
CREATED:20250709T004744Z
LAST-MODIFIED:20250709T005725Z
UID:10000011-1760169600-1760191200@fohbc.org
SUMMARY:12th Annual Fayette\, Alabama Collectible Bottles & Antiques Show and Sell
DESCRIPTION:
URL:https://fohbc.org/event/12th-annual-fayette-alabama-collectible-bottles-antiques-show-and-sell/
LOCATION:Boy Scouts of America Building\, 100 3rd Avenue\, Fayette\, AL\, 35555\, United States
CATEGORIES:Shows
ATTACH;FMTTYPE=image/jpeg:https://fohbc.org/wp-content/uploads/2025/07/Fayette.jpg
ORGANIZER;CN="Jeff Pendley":MAILTO:jfpendley@aol.com
END:VEVENT
BEGIN:VEVENT
DTSTART;TZID=America/Chicago:20251012T090000
DTEND;TZID=America/Chicago:20251012T140000
DTSTAMP:20260423T012035
CREATED:20250709T010215Z
LAST-MODIFIED:20250709T010215Z
UID:10000016-1760259600-1760277600@fohbc.org
SUMMARY:Keene Bottle Show & Sale
DESCRIPTION:
URL:https://fohbc.org/event/keene-bottle-show-sale/
LOCATION:Keene High School\, 43 Arch Street\, Keene\, NH\, United States
CATEGORIES:Shows
ATTACH;FMTTYPE=image/jpeg:https://fohbc.org/wp-content/uploads/2025/07/Keene.jpg
END:VEVENT
END:VCALENDAR