BEGIN:VCALENDAR
VERSION:2.0
PRODID:-//FOHBC - ECPv6.15.20//NONSGML v1.0//EN
CALSCALE:GREGORIAN
METHOD:PUBLISH
X-ORIGINAL-URL:https://fohbc.org
X-WR-CALDESC:Events for FOHBC
REFRESH-INTERVAL;VALUE=DURATION:PT1H
X-Robots-Tag:noindex
X-PUBLISHED-TTL:PT1H
BEGIN:VTIMEZONE
TZID:America/Chicago
BEGIN:DAYLIGHT
TZOFFSETFROM:-0600
TZOFFSETTO:-0500
TZNAME:CDT
DTSTART:20250309T080000
END:DAYLIGHT
BEGIN:STANDARD
TZOFFSETFROM:-0500
TZOFFSETTO:-0600
TZNAME:CST
DTSTART:20251102T070000
END:STANDARD
BEGIN:DAYLIGHT
TZOFFSETFROM:-0600
TZOFFSETTO:-0500
TZNAME:CDT
DTSTART:20260308T080000
END:DAYLIGHT
BEGIN:STANDARD
TZOFFSETFROM:-0500
TZOFFSETTO:-0600
TZNAME:CST
DTSTART:20261101T070000
END:STANDARD
BEGIN:DAYLIGHT
TZOFFSETFROM:-0600
TZOFFSETTO:-0500
TZNAME:CDT
DTSTART:20270314T080000
END:DAYLIGHT
BEGIN:STANDARD
TZOFFSETFROM:-0500
TZOFFSETTO:-0600
TZNAME:CST
DTSTART:20271107T070000
END:STANDARD
END:VTIMEZONE
BEGIN:VEVENT
DTSTART;TZID=America/Chicago:20260503T090000
DTEND;TZID=America/Chicago:20260504T140000
DTSTAMP:20260422T172914
CREATED:20260129T003317Z
LAST-MODIFIED:20260129T003956Z
UID:10000106-1777798800-1777903200@fohbc.org
SUMMARY:9th Annual Dunkard Valley Antiques & Collectibles Show & Sale
DESCRIPTION:
URL:https://fohbc.org/event/9th-annual-dunkard-valley-antiques-collectibles-show-sale/
LOCATION:Mylan Park Mon Center\, 270 Mylan Park Lane\, Morgantown\, WV\, 26501\, United States
CATEGORIES:Shows
ATTACH;FMTTYPE=image/jpeg:https://fohbc.org/wp-content/uploads/2026/01/Dunkard-Valley-May-2026.jpg
ORGANIZER;CN="Don Kelley":MAILTO:bonzeyekelley@gmail.com
END:VEVENT
BEGIN:VEVENT
DTSTART;TZID=America/Chicago:20260509T090000
DTEND;TZID=America/Chicago:20260509T140000
DTSTAMP:20260422T172914
CREATED:20260323T154352Z
LAST-MODIFIED:20260323T154924Z
UID:10000122-1778317200-1778335200@fohbc.org
SUMMARY:Mansfield Antique Bottle Show
DESCRIPTION:
URL:https://fohbc.org/event/mansfield-antique-bottle-show/
LOCATION:Richland County Fairgrounds\, 750 N Home Road\, Mansfield\, OH\, 44906\, United States
CATEGORIES:Shows
ATTACH;FMTTYPE=image/jpeg:https://fohbc.org/wp-content/uploads/2026/03/Mansfield-May-2026.jpg
ORGANIZER;CN="Matt & Elizabeth Lacy":MAILTO:info@antiquebottlesales.com
END:VEVENT
BEGIN:VEVENT
DTSTART;TZID=America/Chicago:20260509T090000
DTEND;TZID=America/Chicago:20260509T153000
DTSTAMP:20260422T172914
CREATED:20250928T144858Z
LAST-MODIFIED:20251216T233119Z
UID:10000052-1778317200-1778340600@fohbc.org
SUMMARY:6th Annual Alabama Bottle & Advertising Show
DESCRIPTION:
URL:https://fohbc.org/event/6th-annual-alabama-bottle-advertising-show/
LOCATION:Gardendale Civic Center\, 857 Main St.\, Gardendale\, AL\, 35071\, United States
CATEGORIES:Shows
ATTACH;FMTTYPE=image/jpeg:https://fohbc.org/wp-content/uploads/2025/09/Alabama-Gardendale-9-May-2026v2.jpg
ORGANIZER;CN="Keith Quinn":MAILTO:klq1812@gmail.com
END:VEVENT
END:VCALENDAR