BEGIN:VCALENDAR
VERSION:2.0
PRODID:-//FOHBC - ECPv6.15.20//NONSGML v1.0//EN
CALSCALE:GREGORIAN
METHOD:PUBLISH
X-WR-CALNAME:FOHBC
X-ORIGINAL-URL:https://fohbc.org
X-WR-CALDESC:Events for FOHBC
REFRESH-INTERVAL;VALUE=DURATION:PT1H
X-Robots-Tag:noindex
X-PUBLISHED-TTL:PT1H
BEGIN:VTIMEZONE
TZID:America/Chicago
BEGIN:DAYLIGHT
TZOFFSETFROM:-0600
TZOFFSETTO:-0500
TZNAME:CDT
DTSTART:20240310T080000
END:DAYLIGHT
BEGIN:STANDARD
TZOFFSETFROM:-0500
TZOFFSETTO:-0600
TZNAME:CST
DTSTART:20241103T070000
END:STANDARD
BEGIN:DAYLIGHT
TZOFFSETFROM:-0600
TZOFFSETTO:-0500
TZNAME:CDT
DTSTART:20250309T080000
END:DAYLIGHT
BEGIN:STANDARD
TZOFFSETFROM:-0500
TZOFFSETTO:-0600
TZNAME:CST
DTSTART:20251102T070000
END:STANDARD
BEGIN:DAYLIGHT
TZOFFSETFROM:-0600
TZOFFSETTO:-0500
TZNAME:CDT
DTSTART:20260308T080000
END:DAYLIGHT
BEGIN:STANDARD
TZOFFSETFROM:-0500
TZOFFSETTO:-0600
TZNAME:CST
DTSTART:20261101T070000
END:STANDARD
END:VTIMEZONE
BEGIN:VEVENT
DTSTART;TZID=America/Chicago:20250801T083000
DTEND;TZID=America/Chicago:20250801T093000
DTSTAMP:20260423T102458
CREATED:20250818T183140Z
LAST-MODIFIED:20250820T231949Z
UID:10000041-1754037000-1754040600@fohbc.org
SUMMARY:19th Century Ammonia Bottles @Reno2025
DESCRIPTION:Presented by Steven Hubbell
URL:https://fohbc.org/event/19th-century-ammonia-bottles-reno2025/
LOCATION:Silver Legacy at the Row\, 407 N Virginia Street\, Reno\, NV\, 89501\, United States
CATEGORIES:Seminar
ATTACH;FMTTYPE=image/jpeg:https://fohbc.org/wp-content/uploads/2025/08/ammonia-bottles-reno-2025.jpg
END:VEVENT
BEGIN:VEVENT
DTSTART;VALUE=DATE:20250731
DTEND;VALUE=DATE:20250804
DTSTAMP:20260423T102458
CREATED:20250709T012752Z
LAST-MODIFIED:20250709T012752Z
UID:10000030-1753920000-1754265599@fohbc.org
SUMMARY:FOHBC RENO 2025 National Antique Bottle & Glass Convention
DESCRIPTION:
URL:https://fohbc.org/event/fohbc-reno-2025-national-antique-bottle-glass-convention/
LOCATION:Silver Legacy at the Row\, 407 N Virginia Street\, Reno\, NV\, 89501\, United States
CATEGORIES:Shows
ATTACH;FMTTYPE=image/jpeg:https://fohbc.org/wp-content/uploads/2025/07/Reno-National.jpg
ORGANIZER;CN="Richard Siri (Show Co-Chair)":MAILTO:rtsiri@sbcglobal.net
END:VEVENT
BEGIN:VEVENT
DTSTART;TZID=America/Chicago:20250518T090000
DTEND;TZID=America/Chicago:20250518T150000
DTSTAMP:20260423T102458
CREATED:20250514T030248Z
LAST-MODIFIED:20250514T030248Z
UID:10000004-1747558800-1747580400@fohbc.org
SUMMARY:2025 Spring Bottle Show at Batsto Village by the Batsto Citizens Committee\, Inc.
DESCRIPTION:18 May 2025 (Sunday) Hammonton\, New Jersey – 2025 Spring Bottle Show at Batsto Village by the Batsto Citizens Committee\, Inc.\, 9:00 am to 3:00 pm\, rain or shine! Free admission! Historic Batsto Village\, Wharton State Forest\, Rt. 542 Pleasant Mills Road\, Hammonton\, New Jersey. Contact Info: Jim Hammell\, 856.217.4945\, hammelljm@gmail.com
URL:https://fohbc.org/event/2025-spring-bottle-show-at-batsto-village-by-the-batsto-citizens-committee-inc/
LOCATION:Historic Batsto Village\, Wharton State Forest\, Rt. 542 Pleasant Mills Road\, Hammonton\, NJ\, 08037\, United States
CATEGORIES:Shows
ATTACH;FMTTYPE=image/jpeg:https://fohbc.org/wp-content/uploads/2025/05/BatstoVillageSpringShowAd25x.jpg
ORGANIZER;CN="Jim Hammell":MAILTO:hammelljm@gmail.com
GEO:39.6433733;74.6508249
X-APPLE-STRUCTURED-LOCATION;VALUE=URI;X-ADDRESS=Historic Batsto Village Wharton State Forest Rt. 542 Pleasant Mills Road Hammonton NJ 08037 United States;X-APPLE-RADIUS=500;X-TITLE=Wharton State Forest\, Rt. 542 Pleasant Mills Road:geo:74.6508249,39.6433733
END:VEVENT
BEGIN:VEVENT
DTSTART;TZID=America/Chicago:20250518T090000
DTEND;TZID=America/Chicago:20250518T140000
DTSTAMP:20260423T102458
CREATED:20250514T025856Z
LAST-MODIFIED:20250514T025856Z
UID:10000003-1747558800-1747576800@fohbc.org
SUMMARY:Washington County Antique Bottle Club 51st Annual Show and Sale
DESCRIPTION:18 May 2025 (Sunday) Washington\, Pennsylvania – Washington County Antique Bottle Club 51st Annual Show and Sale\, Alpine Star Lodge\, 735 Jefferson Avenue\, Washington\, Pennsylvania 15301\, Admission $3\, 9:00 am to 2:00 pm\, Early admission $25 at 7:30 am. Info: Ed Kuskie\, 412.405.9061\, 352 Pineview Drive\, Elizabeth\, Pennsylvania 15037\, bottlewizard@comcasat.net\, FOHBC Member Club
URL:https://fohbc.org/event/washington-county-antique-bottle-club-51st-annual-show-and-sale/
LOCATION:Alpine Star Lodge\, 735 Jefferson Avenue\, Washington\, PA\, 15301\, United States
CATEGORIES:Shows
ATTACH;FMTTYPE=image/jpeg:https://fohbc.org/wp-content/uploads/2025/05/WashingtonCounty2025x.jpg
ORGANIZER;CN="Ed Kuskie":MAILTO:bottlewizard@comcast.net
END:VEVENT
BEGIN:VEVENT
DTSTART;VALUE=DATE:20250516
DTEND;VALUE=DATE:20250519
DTSTAMP:20260423T102458
CREATED:20250514T023850Z
LAST-MODIFIED:20250514T032023Z
UID:10000001-1747353600-1747612799@fohbc.org
SUMMARY:Shupp’s Grove 25th Annual Bottle Festival
DESCRIPTION:16-18 May 2025 (Friday thru Sunday) Adamstown\, Pennsylvania – Shupp’s Grove 25th Annual Bottle Festival\, 607 Willow Street\, Reinholds\, Pennsylvania 17569. Friday\, early buyers only from 11 am to 5 pm at a ticket price of $20 per person and running through Sunday\, 18 May. Saturday and Sunday hours are from 6 am to dusk; admission is free to all on these two days. Contact Steve Guion\, Show Chairman\, 1032 English Drive\, Lebanon\, Pennsylvania 17042\, william03301956@gmail.com or call him at 717.371.1259. He has information and dealer contracts for those wishing to set up at the festival. More info.
URL:https://fohbc.org/event/shupps-grove-25th-annual-bottle-festival/
LOCATION:NY
CATEGORIES:Shows
ATTACH;FMTTYPE=image/jpeg:https://fohbc.org/wp-content/uploads/2025/05/shupps-grove2.jpg
ORGANIZER;CN="Steve Guion":MAILTO:william03301956@gmail.com
END:VEVENT
BEGIN:VEVENT
DTSTART;VALUE=DATE:20250516
DTEND;VALUE=DATE:20250518
DTSTAMP:20260423T102458
CREATED:20250514T025529Z
LAST-MODIFIED:20250514T025529Z
UID:10000002-1747353600-1747526399@fohbc.org
SUMMARY:Nouvelle Orleans Third Annual Antique Bottle & Collectibles Show & Sale
DESCRIPTION:17 May 2025 (Saturday) Mandeville\, Louisiana – Nouvelle Orleans Third Annual Antique Bottle & Collectibles Show & Sale at the Mandeville Lions Club\, 720 Lafitte Street\, Mandeville\, Louisiana 70448\, Dealer set up\, Friday\, 16 May\, 12 noon to 5:00 pm and on Saturday\, 17 May\, 8:00 to 10:00 am. Early Bird $20 during dealer setup. Free admission is Saturday\, from 10:00 am until 4:00 pm; contact Peter Taggard\, 645 Village Lane South\, Mandeville\, Louisiana 70471. Call or text: 985.373.6487. Email: petertaggard@yahoo.com.
URL:https://fohbc.org/event/nouvelle-orleans-third-annual-antique-bottle-collectibles-show-sale/
LOCATION:Mandeville Lions Club\, 720 Lafitte Street\, Mandeville\, LA\, 70448\, United States
CATEGORIES:Shows
ATTACH;FMTTYPE=image/jpeg:https://fohbc.org/wp-content/uploads/2025/05/New-Orleans-2025-Flyerx.jpg
END:VEVENT
END:VCALENDAR