BEGIN:VCALENDAR
VERSION:2.0
PRODID:-//FOHBC - ECPv6.15.20//NONSGML v1.0//EN
CALSCALE:GREGORIAN
METHOD:PUBLISH
X-WR-CALNAME:FOHBC
X-ORIGINAL-URL:https://fohbc.org
X-WR-CALDESC:Events for FOHBC
REFRESH-INTERVAL;VALUE=DURATION:PT1H
X-Robots-Tag:noindex
X-PUBLISHED-TTL:PT1H
BEGIN:VTIMEZONE
TZID:America/Chicago
BEGIN:DAYLIGHT
TZOFFSETFROM:-0600
TZOFFSETTO:-0500
TZNAME:CDT
DTSTART:20250309T080000
END:DAYLIGHT
BEGIN:STANDARD
TZOFFSETFROM:-0500
TZOFFSETTO:-0600
TZNAME:CST
DTSTART:20251102T070000
END:STANDARD
BEGIN:DAYLIGHT
TZOFFSETFROM:-0600
TZOFFSETTO:-0500
TZNAME:CDT
DTSTART:20260308T080000
END:DAYLIGHT
BEGIN:STANDARD
TZOFFSETFROM:-0500
TZOFFSETTO:-0600
TZNAME:CST
DTSTART:20261101T070000
END:STANDARD
BEGIN:DAYLIGHT
TZOFFSETFROM:-0600
TZOFFSETTO:-0500
TZNAME:CDT
DTSTART:20270314T080000
END:DAYLIGHT
BEGIN:STANDARD
TZOFFSETFROM:-0500
TZOFFSETTO:-0600
TZNAME:CST
DTSTART:20271107T070000
END:STANDARD
BEGIN:DAYLIGHT
TZOFFSETFROM:-0600
TZOFFSETTO:-0500
TZNAME:CDT
DTSTART:20280312T080000
END:DAYLIGHT
BEGIN:STANDARD
TZOFFSETFROM:-0500
TZOFFSETTO:-0600
TZNAME:CST
DTSTART:20281105T070000
END:STANDARD
END:VTIMEZONE
BEGIN:VEVENT
DTSTART;TZID=America/Chicago:20260815T100000
DTEND;TZID=America/Chicago:20260815T150000
DTSTAMP:20260422T172523
CREATED:20251202T222158Z
LAST-MODIFIED:20251205T211431Z
UID:10000076-1786788000-1786806000@fohbc.org
SUMMARY:Los Angeles Historical Bottle Club's Antique Bottle Show
DESCRIPTION:
URL:https://fohbc.org/event/los-angeles-historical-bottle-clubs-antique-bottle-show/
LOCATION:Santa Ana Elks Lodge\, 1751 S Elks Lane\, Santa Ana\, CA\, 92705\, United States
CATEGORIES:Shows
ATTACH;FMTTYPE=image/jpeg:https://fohbc.org/wp-content/uploads/2025/12/Los-Angeles-HBC-15-Aug-2026v2-scaled.jpg
ORGANIZER;CN="Don Wippert":MAILTO:donwippert1@gmail.com
END:VEVENT
BEGIN:VEVENT
DTSTART;TZID=America/Chicago:20260816T090000
DTEND;TZID=America/Chicago:20260816T143000
DTSTAMP:20260422T172523
CREATED:20260328T034542Z
LAST-MODIFIED:20260328T034542Z
UID:10000124-1786870800-1786890600@fohbc.org
SUMMARY:39th Annual Mid Hudson Bottle Show
DESCRIPTION:
URL:https://fohbc.org/event/39th-annual-mid-hudson-bottle-show/
LOCATION:Poughkeepsie Elks Lodge 275\, 29 Overocker Road\, Poughkeepsie\, NY\, 12603\, United States
CATEGORIES:Shows
ATTACH;FMTTYPE=image/jpeg:https://fohbc.org/wp-content/uploads/2026/03/Mid-Hudson-Aug-2026.jpg
ORGANIZER;CN="Mike Stephano":MAILTO:MJSAntique@aol.com
END:VEVENT
BEGIN:VEVENT
DTSTART;TZID=America/Chicago:20260905T080000
DTEND;TZID=America/Chicago:20260905T140000
DTSTAMP:20260422T172523
CREATED:20251208T162527Z
LAST-MODIFIED:20251208T162527Z
UID:10000086-1788595200-1788616800@fohbc.org
SUMMARY:Little Rhody Bottle Club Swap Meet
DESCRIPTION:
URL:https://fohbc.org/event/little-rhody-bottle-club-swap-meet-2/2026-09-05/
LOCATION:Leonard’s Antiques\, 600 Taunton Avenue\, Seekonk\, MA\, 02771\, United States
CATEGORIES:Swap Meet
ATTACH;FMTTYPE=image/jpeg:https://fohbc.org/wp-content/uploads/2025/12/Little-Rhody-BC-12-Apr-2026v3.jpg
ORGANIZER;CN="Bill or Linda Rose":MAILTO:sierramadre@comcast.net
END:VEVENT
BEGIN:VEVENT
DTSTART;TZID=America/Chicago:20260912T090000
DTEND;TZID=America/Chicago:20260912T160000
DTSTAMP:20260422T172523
CREATED:20260328T035504Z
LAST-MODIFIED:20260328T035504Z
UID:10000126-1789203600-1789228800@fohbc.org
SUMMARY:Antique Bottle Collectors of Colorado Show\, Castle Rock\, Colorado
DESCRIPTION:
URL:https://fohbc.org/event/antique-bottle-collectors-of-colorado-show-castle-rock-colorado/
LOCATION:Douglas County Fairgrounds at Multiple Purpose Building North\, 500 Fairgrounds Drive\, Castle Rock\, CO\, 80104\, United States
CATEGORIES:Shows
ATTACH;FMTTYPE=image/jpeg:https://fohbc.org/wp-content/uploads/2026/03/Castle-Rock-CO-Sept-2026.jpg
ORGANIZER;CN="Fred Bjork":MAILTO:manfredbjork@yahoo.com
END:VEVENT
BEGIN:VEVENT
DTSTART;TZID=America/Chicago:20260913T083000
DTEND;TZID=America/Chicago:20260913T150000
DTSTAMP:20260422T172523
CREATED:20260413T154115Z
LAST-MODIFIED:20260413T154115Z
UID:10000129-1789288200-1789311600@fohbc.org
SUMMARY:Pekin Bottle Collectors Association's 56th Annual Antique & Collectibles Show & Sale
DESCRIPTION:
URL:https://fohbc.org/event/pekin-bottle-collectors-associations-56th-annual-antique-collectibles-show-sale/
LOCATION:Moose Lodge\, 2605 Broadway Street\, Pekin\, IL\, 61554\, United States
CATEGORIES:Shows
ATTACH;FMTTYPE=image/jpeg:https://fohbc.org/wp-content/uploads/2026/04/Pekin-BCA-Sept-2026.jpg
ORGANIZER;CN="Daryl Weseloh":MAILTO:darylweseloh@gmail.com
END:VEVENT
BEGIN:VEVENT
DTSTART;VALUE=DATE:20260918
DTEND;VALUE=DATE:20260921
DTSTAMP:20260422T172523
CREATED:20260311T004721Z
LAST-MODIFIED:20260311T004721Z
UID:10000118-1789689600-1789948799@fohbc.org
SUMMARY:Shupp's Grove Bottle Festival September 2026
DESCRIPTION:
URL:https://fohbc.org/event/shupps-grove-bottle-festival-september-2026/
LOCATION:Shupp’s Grove\, 607 Willow Street\, Reinholds\, PA\, 17569\, United States
CATEGORIES:Shows
ORGANIZER;CN="Steve Guion":MAILTO:william03301956@gmail.com
END:VEVENT
BEGIN:VEVENT
DTSTART;TZID=America/Chicago:20260919T090000
DTEND;TZID=America/Chicago:20260919T160000
DTSTAMP:20260422T172523
CREATED:20260120T034522Z
LAST-MODIFIED:20260120T034522Z
UID:10000099-1789808400-1789833600@fohbc.org
SUMMARY:Windy Knoll Farm Insulator & Bottle Show
DESCRIPTION:We’re very excited about promoting the hobby and its rich history. In addition to bottles and insulators for sale\, we will have displays of American insulators and historic items dug at the Ellenville Glassworks\, a display of historic and unusual bottles of Orange County\, as well as an operating telegraph system in the railroad station. Along with the station\, we have a restored caboose and locomotive\, as well as a pump car that gives a great look at signal maintenance. Please feel free to reach out anytime. Free tables (or bring your own)\, free admission\, free appraisals. First-come\, first-served. Food will be available on site\, for a charge. Contact: David Lewis\, dlew4355@gmail.com\, 845-857-8635 or Cory Sabatini\, 845-494-9115.
URL:https://fohbc.org/event/windy-knoll-farm-insulator-bottle-show/
LOCATION:Windy Knoll Farm\, 59 Lewis Lane\, Bloomingburg\, NY\, United States
CATEGORIES:Shows
ATTACH;FMTTYPE=image/jpeg:https://fohbc.org/wp-content/uploads/2026/01/Windy-Knoll-Farm-Insulator-Bottle-Show-Sept-2026.jpg
END:VEVENT
BEGIN:VEVENT
DTSTART;TZID=America/Chicago:20260919T110000
DTEND;TZID=America/Chicago:20260919T160000
DTSTAMP:20260422T172523
CREATED:20260407T033024Z
LAST-MODIFIED:20260407T033024Z
UID:10000127-1789815600-1789833600@fohbc.org
SUMMARY:Northwestern Bottle Collectors Association's Antique\, Bottle & Collectible Show
DESCRIPTION:
URL:https://fohbc.org/event/northwestern-bottle-collectors-associations-antique-bottle-collectible-show/
LOCATION:Santa Rosa Veteran’s Building\, 1351 Maple Avenue\, Santa Rosa\, CA\, United States
CATEGORIES:Shows
ATTACH;FMTTYPE=image/jpeg:https://fohbc.org/wp-content/uploads/2026/04/Northwestern-Sept-2026.jpg
ORGANIZER;CN="Richard Siri":MAILTO:rtsiri@sbcglobal.net
END:VEVENT
BEGIN:VEVENT
DTSTART;TZID=America/Chicago:20260920T090000
DTEND;TZID=America/Chicago:20260920T140000
DTSTAMP:20260422T172523
CREATED:20260301T005128Z
LAST-MODIFIED:20260328T034754Z
UID:10000114-1789894800-1789912800@fohbc.org
SUMMARY:Greater Buffalo Bottle Collectors Assn 27th Annual Show & Sale
DESCRIPTION:
URL:https://fohbc.org/event/greater-buffalo-bottle-collectors-assn-27th-annual-show-sale/
LOCATION:Polish Falcons Hall\, 445 Columbia Avenue\, Depew\, NY\, United States
CATEGORIES:Shows
ATTACH;FMTTYPE=image/jpeg:https://fohbc.org/wp-content/uploads/2026/02/Greater-Buffalo-BCA-Sept-2026-v2.jpg
ORGANIZER;CN="Tom Karapantso":MAILTO:tomar@stny.rr.com
END:VEVENT
BEGIN:VEVENT
DTSTART;TZID=America/Chicago:20261003T090000
DTEND;TZID=America/Chicago:20261003T150000
DTSTAMP:20260422T172523
CREATED:20260328T035054Z
LAST-MODIFIED:20260328T035054Z
UID:10000125-1791018000-1791039600@fohbc.org
SUMMARY:54th Richmond Antique Bottle & Collectibles Show
DESCRIPTION:
URL:https://fohbc.org/event/54th-richmond-antique-bottle-collectibles-show/
LOCATION:Chesterfield County Fairgrounds\, 10300 Courthouse Road\, Chesterfield\, VA\, 23832\, United States
CATEGORIES:Shows
ATTACH;FMTTYPE=image/jpeg:https://fohbc.org/wp-content/uploads/2026/03/Richmond-Oct-2026.jpg
ORGANIZER;CN="Tony Townsend":MAILTO:richbottleclub@comcast.net
END:VEVENT
BEGIN:VEVENT
DTSTART;VALUE=DATE:20261023
DTEND;VALUE=DATE:20261025
DTSTAMP:20260422T172523
CREATED:20260128T220519Z
LAST-MODIFIED:20260131T171839Z
UID:10000105-1792713600-1792886399@fohbc.org
SUMMARY:Tennessee Bottle Collectors Presents the Old No. 7 Antique Bottle & Advertising Show
DESCRIPTION:
URL:https://fohbc.org/event/tennessee-bottle-collectors-presents-the-old-no-7-antique-bottle-advertising-show/
LOCATION:Wilson County Fairgrounds\, Tennessee Building\, 945 E. Baddour Parkway\, Lebanon\, TN\, 37087\, United States
CATEGORIES:Shows
ATTACH;FMTTYPE=image/jpeg:https://fohbc.org/wp-content/uploads/2026/01/Tennessee-BC-Old-No-7-Oct-2026-v2.jpg
END:VEVENT
BEGIN:VEVENT
DTSTART;TZID=America/Chicago:20261108T090000
DTEND;TZID=America/Chicago:20261108T140000
DTSTAMP:20260422T172523
CREATED:20260220T164436Z
LAST-MODIFIED:20260220T164436Z
UID:10000111-1794128400-1794146400@fohbc.org
SUMMARY:North Jersey Antique Bottle Collectors Assn's 56th Annual Antique Bottle Show & Sale
DESCRIPTION:
URL:https://fohbc.org/event/north-jersey-antique-bottle-collectors-assns-56th-annual-antique-bottle-show-sale/
LOCATION:Pompton Lakes Elks Lodge No. 1895\, 1 Perrin Avenue\, Pompton Lakes\, NJ\, 07442\, United States
CATEGORIES:Shows
ATTACH;FMTTYPE=image/jpeg:https://fohbc.org/wp-content/uploads/2026/02/North-Jersey-ABCA-Nov-2026.jpg
ORGANIZER;CN="Ed Natale":MAILTO:metropetro222@gmail.com
END:VEVENT
BEGIN:VEVENT
DTSTART;TZID=America/Chicago:20261108T090000
DTEND;TZID=America/Chicago:20261108T140000
DTSTAMP:20260422T172523
CREATED:20260301T161223Z
LAST-MODIFIED:20260301T161803Z
UID:10000115-1794128400-1794146400@fohbc.org
SUMMARY:Pittsburgh Antique Bottle Club's 56th Annual Show & Sale
DESCRIPTION:Directions \nApproaching from the East: Driving westward on I-70\, take exit 43A. Turn right at first stoplight. This puts you on Route 201 South. Go straight through the next three stoplights (stay on 201 South). The WTVFC Social Hall is on the right about 1.6 miles from the first stoplight and 0.4 miles from the last stoplight. \nApproaching from the West: Driving eastward on I-70\, take exit 43. Turn left at first stoplight. This puts you on Route 201 South. Go straight through the next two stoplights (stay on 201 South). The WTVFC Social Hall is on the right about 1.5 miles from the first stoplight and 0.4 miles from the last stoplight.
URL:https://fohbc.org/event/pittsburgh-antique-bottle-clubs-56th-annual-show-sale/
LOCATION:WTVFC Social Hall\, 1314 Axton Street\, Belle Vernon\, PA\, 15012\, United States
CATEGORIES:Shows
ATTACH;FMTTYPE=image/jpeg:https://fohbc.org/wp-content/uploads/2026/03/Pittsburgh-ABC-Nov-2026.jpg
END:VEVENT
BEGIN:VEVENT
DTSTART;VALUE=DATE:20270729
DTEND;VALUE=DATE:20270801
DTSTAMP:20260422T172523
CREATED:20250822T230414Z
LAST-MODIFIED:20260414T221244Z
UID:10000042-1816819200-1817078399@fohbc.org
SUMMARY:Nashville 2027 National Show
DESCRIPTION:28 Miles East of Downtown Nashville\, \nTennessee is full of historical places to visit.  The state is divided into 3 regions within a couple hours drive with totally different landscapes. \n\n400 Tables Available\nMany Hotels in Area plan to have Group hotel pricing in 2026\nVendor Contracts will be available in 2026\n8 Foot Tables 75.00 Each\n6 foot Tables 65.00 Each\nHistorical Glass Displays\nPlenty of Free Parking \, RV parking is also available call to reserve 615-449-9077\nWorlds Longest Yard Sale Starts 8-4-2027 through 8-7-2027 Hwy 127\nMany local attractions \,  Grand Ole Opry \, Broadway downtown \, Andrew Jackson Hermitage \, Historic Civil War Battle fields \, Jack Daniels Distillery\, Tennessee Museum.\nBNA National Airport located east side of Nashville 25 miles from Expo all interstate
URL:https://fohbc.org/event/nashville-2027-national-show/
LOCATION:Wilson County Fairgrounds Expo Building\, 945 E. Baddour Parkway\, Lebanon\, TN\, 37087\, United States
CATEGORIES:Shows
ATTACH;FMTTYPE=image/jpeg:https://fohbc.org/wp-content/uploads/2025/08/FOHBC-National-Show-2027-Nashville.jpg
ORGANIZER;CN="Greg and Elise Eaton":MAILTO:fohbc.nashville27@gmail.com
END:VEVENT
END:VCALENDAR