BEGIN:VCALENDAR
VERSION:2.0
PRODID:-//FOHBC - ECPv6.15.20//NONSGML v1.0//EN
CALSCALE:GREGORIAN
METHOD:PUBLISH
X-WR-CALNAME:FOHBC
X-ORIGINAL-URL:https://fohbc.org
X-WR-CALDESC:Events for FOHBC
REFRESH-INTERVAL;VALUE=DURATION:PT1H
X-Robots-Tag:noindex
X-PUBLISHED-TTL:PT1H
BEGIN:VTIMEZONE
TZID:America/Chicago
BEGIN:DAYLIGHT
TZOFFSETFROM:-0600
TZOFFSETTO:-0500
TZNAME:CDT
DTSTART:20240310T080000
END:DAYLIGHT
BEGIN:STANDARD
TZOFFSETFROM:-0500
TZOFFSETTO:-0600
TZNAME:CST
DTSTART:20241103T070000
END:STANDARD
BEGIN:DAYLIGHT
TZOFFSETFROM:-0600
TZOFFSETTO:-0500
TZNAME:CDT
DTSTART:20250309T080000
END:DAYLIGHT
BEGIN:STANDARD
TZOFFSETFROM:-0500
TZOFFSETTO:-0600
TZNAME:CST
DTSTART:20251102T070000
END:STANDARD
BEGIN:DAYLIGHT
TZOFFSETFROM:-0600
TZOFFSETTO:-0500
TZNAME:CDT
DTSTART:20260308T080000
END:DAYLIGHT
BEGIN:STANDARD
TZOFFSETFROM:-0500
TZOFFSETTO:-0600
TZNAME:CST
DTSTART:20261101T070000
END:STANDARD
END:VTIMEZONE
BEGIN:VEVENT
DTSTART;VALUE=DATE:20250906
DTEND;VALUE=DATE:20250907
DTSTAMP:20260422T174846
CREATED:20250709T010413Z
LAST-MODIFIED:20250709T010413Z
UID:10000017-1757116800-1757203199@fohbc.org
SUMMARY:Little Rhody Bottle Club Swap Meet
DESCRIPTION:
URL:https://fohbc.org/event/little-rhody-bottle-club-swap-meet/
LOCATION:Leonard’s Antiques\, 600 Taunton Avenue\, Seekonk\, MA\, 02771\, United States
CATEGORIES:Shows
ATTACH;FMTTYPE=image/jpeg:https://fohbc.org/wp-content/uploads/2025/07/Little-Rhody.jpg
ORGANIZER;CN="Bill or Linda Rose":MAILTO:sierramadre@comcast.net
END:VEVENT
BEGIN:VEVENT
DTSTART;TZID=America/Chicago:20250906T090000
DTEND;TZID=America/Chicago:20250906T150000
DTSTAMP:20260422T174846
CREATED:20250709T004457Z
LAST-MODIFIED:20250709T005636Z
UID:10000009-1757149200-1757170800@fohbc.org
SUMMARY:Antique Bottle Collectors of Colorado Show
DESCRIPTION:
URL:https://fohbc.org/event/antique-bottle-collectors-of-colorado-show/
LOCATION:Douglas County Fairgrounds at Multiple Purpose Building North\, 500 Fairgrounds Drive\, Castle Rock\, CO\, 80104\, United States
CATEGORIES:Shows
ATTACH;FMTTYPE=image/jpeg:https://fohbc.org/wp-content/uploads/2025/07/Colorado.jpg
ORGANIZER;CN="Fred Bjork":MAILTO:manfredbjork@yahoo.com
END:VEVENT
BEGIN:VEVENT
DTSTART;TZID=America/Chicago:20250907T083000
DTEND;TZID=America/Chicago:20250907T150000
DTSTAMP:20260422T174846
CREATED:20250709T012222Z
LAST-MODIFIED:20250709T012222Z
UID:10000027-1757233800-1757257200@fohbc.org
SUMMARY:Pekin Bottle Collectors Assn 55th Annual Antique & Collectibles Show & Sale
DESCRIPTION:
URL:https://fohbc.org/event/pekin-bottle-collectors-assn-55th-annual-antique-collectibles-show-sale/
LOCATION:Moose Lodge\, 2605 Broadway Street\, Pekin\, IL\, 61554\, United States
CATEGORIES:Shows
ATTACH;FMTTYPE=image/jpeg:https://fohbc.org/wp-content/uploads/2025/07/Pekin.jpg
ORGANIZER;CN="Daryl Weseloh":MAILTO:darylweseloh@gmail.com
END:VEVENT
BEGIN:VEVENT
DTSTART;TZID=America/Chicago:20250913T090000
DTEND;TZID=America/Chicago:20250913T140000
DTSTAMP:20260422T174846
CREATED:20250709T010052Z
LAST-MODIFIED:20250709T010110Z
UID:10000015-1757754000-1757772000@fohbc.org
SUMMARY:Indianapolis Circle City Antique Bottle\, Advertising and Antiques Show
DESCRIPTION:
URL:https://fohbc.org/event/indianapolis-circle-city-antique-bottle-advertising-and-antiques-show/
LOCATION:Boone County Fairgrounds\, 1300 E. 100 S.\, Lebanon\, IN\, 46052\, United States
CATEGORIES:Shows
ATTACH;FMTTYPE=image/jpeg:https://fohbc.org/wp-content/uploads/2025/07/Indianapolis.jpg
ORGANIZER;CN="Martin Van Zant":MAILTO:mdvanzant@yahoo.com
END:VEVENT
BEGIN:VEVENT
DTSTART;TZID=America/Chicago:20250914T090000
DTEND;TZID=America/Chicago:20250914T130000
DTSTAMP:20260422T174846
CREATED:20250709T010739Z
LAST-MODIFIED:20250709T010739Z
UID:10000019-1757840400-1757854800@fohbc.org
SUMMARY:Merrimack Valley Antique Bottle Club 50th Annual Bottle Show & Sale
DESCRIPTION:
URL:https://fohbc.org/event/merrimack-valley-antique-bottle-club-50th-annual-bottle-show-sale/
LOCATION:Chelmsford Elks Lodge\, 300 Littleton Road\, Chelmsford\, MA\, 01824\, United States
CATEGORIES:Shows
ATTACH;FMTTYPE=image/jpeg:https://fohbc.org/wp-content/uploads/2025/07/Merrimack-Valley.jpg
ORGANIZER;CN="Kevin Cantrell":MAILTO:kmcantrell86@gmail.com
END:VEVENT
BEGIN:VEVENT
DTSTART;TZID=America/Chicago:20250916T190000
DTEND;TZID=America/Chicago:20250916T210000
DTSTAMP:20260422T174846
CREATED:20250818T165956Z
LAST-MODIFIED:20250915T170555Z
UID:10000037-1758049200-1758056400@fohbc.org
SUMMARY:FOHBC Poisons Webinar Part 3
DESCRIPTION:Join us online as Vern Huffstetler\, Tim Adams and Joan Cabaniss present their third in a series of three presentations designed to inform us about Poison bottles.  This seminar will focus on Midwestern Companies as well as drug stores with custom bottles.  I’m sure we all have a poison or two in our collections. \nIf you would like to attend\, or have other ideas about seminars\, please contact FOHBC President Michael Seeliger (608-575-2922 | president@fohbc.org).
URL:https://fohbc.org/event/fohbc-poisons-webinar-part-3/
LOCATION:Zoom Webinar
CATEGORIES:Seminar,Webinar
ATTACH;FMTTYPE=image/jpeg:https://fohbc.org/wp-content/uploads/2025/08/poisons-seminar-1.jpg
ORGANIZER;CN="Michael Seeliger":MAILTO:president@fohbc.org
END:VEVENT
BEGIN:VEVENT
DTSTART;TZID=America/Chicago:20250920T090000
DTEND;TZID=America/Chicago:20250920T150000
DTSTAMP:20260422T174846
CREATED:20250709T012049Z
LAST-MODIFIED:20250709T012049Z
UID:10000026-1758358800-1758380400@fohbc.org
SUMMARY:Oregon Bottle Collectors Assn Bottle\, Antique & Collectibles Show & Sale
DESCRIPTION:
URL:https://fohbc.org/event/oregon-bottle-collectors-assn-bottle-antique-collectibles-show-sale/
LOCATION:American Legion Hall\, 21510 Main Street NE\, Aurora\, OR\, United States
CATEGORIES:Shows
ATTACH;FMTTYPE=image/jpeg:https://fohbc.org/wp-content/uploads/2025/07/Oregon.jpg
ORGANIZER;CN="Wayne Herring - Show Chairman":MAILTO:billbogy7@gmail.com
END:VEVENT
BEGIN:VEVENT
DTSTART;TZID=America/Chicago:20250920T110000
DTEND;TZID=America/Chicago:20250920T160000
DTSTAMP:20260422T174846
CREATED:20250709T011918Z
LAST-MODIFIED:20250709T011918Z
UID:10000025-1758366000-1758384000@fohbc.org
SUMMARY:Northwestern Bottle Collectors Antique\, Bottle & Collectible Santa Rosa Show
DESCRIPTION:
URL:https://fohbc.org/event/northwestern-bottle-collectors-antique-bottle-collectible-santa-rosa-show/
LOCATION:Santa Rosa Veteran’s Building\, 1351 Maple Avenue\, Santa Rosa\, CA\, United States
CATEGORIES:Shows
ATTACH;FMTTYPE=image/jpeg:https://fohbc.org/wp-content/uploads/2025/07/Northwestern.jpg
ORGANIZER;CN="Richard Siri":MAILTO:rtsiri@sbcglobal.net
END:VEVENT
BEGIN:VEVENT
DTSTART;TZID=America/Chicago:20250921T090000
DTEND;TZID=America/Chicago:20250921T140000
DTSTAMP:20260422T174846
CREATED:20250709T004607Z
LAST-MODIFIED:20250822T180109Z
UID:10000010-1758445200-1758463200@fohbc.org
SUMMARY:Delmarva Antique Bottle Club Show and Sale
DESCRIPTION:
URL:https://fohbc.org/event/delmarva-antique-bottle-club/
LOCATION:Ellendale Fire Hall\, 302 Main Street\, Ellendale\, DE\, United States
CATEGORIES:Shows
ATTACH;FMTTYPE=image/jpeg:https://fohbc.org/wp-content/uploads/2025/07/Delmarva.jpg
ORGANIZER;CN="Keith Fleming":MAILTO:moonderby327@gmail.com
END:VEVENT
BEGIN:VEVENT
DTSTART;TZID=America/Chicago:20250921T090000
DTEND;TZID=America/Chicago:20250921T140000
DTSTAMP:20260422T174846
CREATED:20250709T005311Z
LAST-MODIFIED:20250709T005343Z
UID:10000014-1758445200-1758463200@fohbc.org
SUMMARY:Greater Buffalo Bottle Collectors Association 26th Annual Show & Sale
DESCRIPTION:
URL:https://fohbc.org/event/greater-buffalo-bottle-collectors-association-26th-annual-show-sale/
LOCATION:Polish Falcons Hall\, 445 Columbia Avenue\, Depew\, NY\, United States
CATEGORIES:Shows
ATTACH;FMTTYPE=image/jpeg:https://fohbc.org/wp-content/uploads/2025/07/Greater-Buffalo.jpg
ORGANIZER;CN="Tom Karapantso":MAILTO:tomar@stny.rr.com
END:VEVENT
BEGIN:VEVENT
DTSTART;TZID=America/Chicago:20250928T080000
DTEND;TZID=America/Chicago:20250928T140000
DTSTAMP:20260422T174846
CREATED:20250709T011017Z
LAST-MODIFIED:20250822T180017Z
UID:10000021-1759046400-1759068000@fohbc.org
SUMMARY:Mid-Maine Antique Bottle Club's 5th Annual Antique Bottle Show and Sale
DESCRIPTION:
URL:https://fohbc.org/event/mid-maine-antique-bottle-clubs-5th-annual-antique-bottle-show-and-sale/
LOCATION:Topsham Fairground Exhibition Hall\, 32 Community Way\, Topsham\, ME\, United States
CATEGORIES:Shows
ATTACH;FMTTYPE=image/jpeg:https://fohbc.org/wp-content/uploads/2025/07/Mid-Maine.jpg
ORGANIZER;CN="Paul McClure":MAILTO:oldbottles@outlook.com
END:VEVENT
BEGIN:VEVENT
DTSTART;TZID=America/Chicago:20250928T090000
DTEND;TZID=America/Chicago:20250928T150000
DTSTAMP:20260422T174846
CREATED:20250708T214812Z
LAST-MODIFIED:20250709T003335Z
UID:10000005-1759050000-1759071600@fohbc.org
SUMMARY:Historic Batsto Village - The Fall Antiques & Bottle Show
DESCRIPTION:
URL:https://fohbc.org/event/historic-batsto-village-the-fall-antiques-bottle-show/
LOCATION:Historic Batsto Village\, Wharton State Forest\, Rt. 542 Pleasant Mills Road\, Hammonton\, NJ\, 08037\, United States
CATEGORIES:Shows
ATTACH;FMTTYPE=image/jpeg:https://fohbc.org/wp-content/uploads/2025/07/Batsto-Village.jpg
ORGANIZER;CN="Jim Hammell":MAILTO:hammelljm@gmail.com
GEO:39.6433733;74.6508249
X-APPLE-STRUCTURED-LOCATION;VALUE=URI;X-ADDRESS=Historic Batsto Village Wharton State Forest Rt. 542 Pleasant Mills Road Hammonton NJ 08037 United States;X-APPLE-RADIUS=500;X-TITLE=Wharton State Forest\, Rt. 542 Pleasant Mills Road:geo:74.6508249,39.6433733
END:VEVENT
END:VCALENDAR