BEGIN:VCALENDAR
VERSION:2.0
PRODID:-//FOHBC - ECPv6.15.20//NONSGML v1.0//EN
CALSCALE:GREGORIAN
METHOD:PUBLISH
X-ORIGINAL-URL:https://fohbc.org
X-WR-CALDESC:Events for FOHBC
REFRESH-INTERVAL;VALUE=DURATION:PT1H
X-Robots-Tag:noindex
X-PUBLISHED-TTL:PT1H
BEGIN:VTIMEZONE
TZID:America/Chicago
BEGIN:DAYLIGHT
TZOFFSETFROM:-0600
TZOFFSETTO:-0500
TZNAME:CDT
DTSTART:20240310T080000
END:DAYLIGHT
BEGIN:STANDARD
TZOFFSETFROM:-0500
TZOFFSETTO:-0600
TZNAME:CST
DTSTART:20241103T070000
END:STANDARD
BEGIN:DAYLIGHT
TZOFFSETFROM:-0600
TZOFFSETTO:-0500
TZNAME:CDT
DTSTART:20250309T080000
END:DAYLIGHT
BEGIN:STANDARD
TZOFFSETFROM:-0500
TZOFFSETTO:-0600
TZNAME:CST
DTSTART:20251102T070000
END:STANDARD
BEGIN:DAYLIGHT
TZOFFSETFROM:-0600
TZOFFSETTO:-0500
TZNAME:CDT
DTSTART:20260308T080000
END:DAYLIGHT
BEGIN:STANDARD
TZOFFSETFROM:-0500
TZOFFSETTO:-0600
TZNAME:CST
DTSTART:20261101T070000
END:STANDARD
END:VTIMEZONE
BEGIN:VEVENT
DTSTART;TZID=America/Chicago:20251102T090000
DTEND;TZID=America/Chicago:20251102T140000
DTSTAMP:20260421T232140
CREATED:20250709T013304Z
LAST-MODIFIED:20250709T013452Z
UID:10000033-1762074000-1762092000@fohbc.org
SUMMARY:Tri-State Bottle Collectors and Diggers Club 52nd Annual Antique Bottle & Collectibles Show and Sale
DESCRIPTION:Please note the location!
URL:https://fohbc.org/event/52nd-annual-antique-bottle-collectibles-show-and-sale/
LOCATION:AETNA Hose Hook & Ladder Banquet Hall\, 410 Ogletown Road\, Newark\, DE\, 19711\, United States
CATEGORIES:Shows
ATTACH;FMTTYPE=image/jpeg:https://fohbc.org/wp-content/uploads/2025/07/Tristate.jpg
ORGANIZER;CN="Dave Porter":MAILTO:daveelle@msn.com
END:VEVENT
BEGIN:VEVENT
DTSTART;VALUE=DATE:20251107
DTEND;VALUE=DATE:20251109
DTSTAMP:20260421T232140
CREATED:20250927T160046Z
LAST-MODIFIED:20251103T142955Z
UID:10000049-1762473600-1762646399@fohbc.org
SUMMARY:'49er Historical Bottle Association's Antique Bottle & Collectibles Show "Best in the West"
DESCRIPTION:
URL:https://fohbc.org/event/49er-historical-bottle-associations-antique-bottle-collectibles-show-best-in-the-west/
LOCATION:Gold Country Fairgrounds & Event Center\, 1273 High St.\, Auburn\, CA\, 95603\, United States
CATEGORIES:Shows
ATTACH;FMTTYPE=image/jpeg:https://fohbc.org/wp-content/uploads/2025/09/49er-Auburn-CA-7-8-Nov-2025.jpg
END:VEVENT
BEGIN:VEVENT
DTSTART;VALUE=DATE:20251108
DTEND;VALUE=DATE:20251110
DTSTAMP:20260421T232140
CREATED:20250928T160159Z
LAST-MODIFIED:20251103T143050Z
UID:10000053-1762560000-1762732799@fohbc.org
SUMMARY:Grayslake\, IL Antique Bottle & Advertising Show
DESCRIPTION:
URL:https://fohbc.org/event/grayslake-il-antique-bottle-advertising-show/
LOCATION:Lake County Fairgrounds\, 1060 E. Peterson Rd.\, Grayslake\, IL\, 60030\, United States
CATEGORIES:Shows
ATTACH;FMTTYPE=image/jpeg:https://fohbc.org/wp-content/uploads/2025/09/Grayslake-8-9-Nov-2025.jpg
END:VEVENT
BEGIN:VEVENT
DTSTART;TZID=America/Chicago:20251108T090000
DTEND;TZID=America/Chicago:20251108T120000
DTSTAMP:20260421T232140
CREATED:20251023T031826Z
LAST-MODIFIED:20251023T031826Z
UID:10000063-1762592400-1762603200@fohbc.org
SUMMARY:BCCA Simon Pure Chapter's Fall Brewery\, Man Cave and Beer Collectables Buy and Sell Show
DESCRIPTION:
URL:https://fohbc.org/event/bcca-simon-pure-chapters-fall-brewery-man-cave-and-beer-collectables-buy-and-sell-show/
LOCATION:Eagles Club\, 4569 Broadway\, Depew\, NY\, 14043\, United States
CATEGORIES:Shows
ATTACH;FMTTYPE=image/jpeg:https://fohbc.org/wp-content/uploads/2025/10/BCCA-Depew-8-Nov-2025.jpg
ORGANIZER;CN="Jeff Murbach":MAILTO:jmurbach@ymail.com
END:VEVENT
BEGIN:VEVENT
DTSTART;TZID=America/Chicago:20251108T093000
DTEND;TZID=America/Chicago:20251108T143000
DTSTAMP:20260421T232140
CREATED:20250926T200954Z
LAST-MODIFIED:20250926T232146Z
UID:10000043-1762594200-1762612200@fohbc.org
SUMMARY:Metropolitan Detroit Antique Bottle Club 42nd Annual Antique Bottle Show & Sale
DESCRIPTION:
URL:https://fohbc.org/event/metropolitan-detroit-antique-bottle-club-show-sale/
LOCATION:Royal Oak Elks Lodge # 1523\, 2401 E. Fourth St.\, Royal Oak\, MI\, 48067\, United States
CATEGORIES:Shows
ATTACH;FMTTYPE=image/jpeg:https://fohbc.org/wp-content/uploads/2025/09/Metro-Detroit-Bottle-Show-8-Nov-2025-poster.jpg
ORGANIZER;CN="Mike Brodzik":MAILTO:bottlemike@outlook.com
END:VEVENT
BEGIN:VEVENT
DTSTART;TZID=America/Chicago:20251109T090000
DTEND;TZID=America/Chicago:20251109T140000
DTSTAMP:20260421T232140
CREATED:20250709T011727Z
LAST-MODIFIED:20250709T011727Z
UID:10000024-1762678800-1762696800@fohbc.org
SUMMARY:North Jersey Antique Bottle Collectors Association's 55th Annual Antique Bottle Show and Sale
DESCRIPTION:
URL:https://fohbc.org/event/north-jersey-antique-bottle-collectors-associations-55th-annual-antique-bottle-show-and-sale/
LOCATION:Pompton Lakes Elks Lodge No. 1895\, 1 Perrin Avenue\, Pompton Lakes\, NJ\, 07442\, United States
CATEGORIES:Shows
ATTACH;FMTTYPE=image/jpeg:https://fohbc.org/wp-content/uploads/2025/07/North-Jersey.jpg
ORGANIZER;CN="Ed":MAILTO:metropetro222@gmail.com
END:VEVENT
BEGIN:VEVENT
DTSTART;TZID=America/Chicago:20251109T090000
DTEND;TZID=America/Chicago:20251109T140000
DTSTAMP:20260421T232140
CREATED:20250709T012500Z
LAST-MODIFIED:20250709T012500Z
UID:10000029-1762678800-1762696800@fohbc.org
SUMMARY:Pittsburgh Antique Bottle Club 55th Annual Show and Sale
DESCRIPTION:
URL:https://fohbc.org/event/pittsburgh-antique-bottle-club-55th-annual-show-and-sale/
LOCATION:WTVFC Social Hall\, 1314 Axton Street\, Belle Vernon\, PA\, 15012\, United States
CATEGORIES:Shows
ATTACH;FMTTYPE=image/jpeg:https://fohbc.org/wp-content/uploads/2025/07/Pittsburgh.jpg
END:VEVENT
BEGIN:VEVENT
DTSTART;TZID=America/Chicago:20251111T190000
DTEND;TZID=America/Chicago:20251111T200000
DTSTAMP:20260421T232140
CREATED:20251105T215306Z
LAST-MODIFIED:20251105T215759Z
UID:10000073-1762887600-1762891200@fohbc.org
SUMMARY:Webinar #25 - Odd and Strange Medical Devices and Medical Claims
DESCRIPTION:
URL:https://fohbc.org/event/webinar-25-odd-and-strange-medical-devices-and-medical-claims/
LOCATION:Zoom Webinar
CATEGORIES:Webinar
ATTACH;FMTTYPE=image/jpeg:https://fohbc.org/wp-content/uploads/2025/11/Webinar-25-flyer.jpg
ORGANIZER;CN="Michael Seeliger":MAILTO:president@fohbc.org
END:VEVENT
BEGIN:VEVENT
DTSTART;TZID=America/Chicago:20251116T080000
DTEND;TZID=America/Chicago:20251116T140000
DTSTAMP:20260421T232140
CREATED:20251031T142102Z
LAST-MODIFIED:20251031T143038Z
UID:10000068-1763280000-1763301600@fohbc.org
SUMMARY:1st Annual Connecticut Antique Bottle Show & Sale
DESCRIPTION:Dealer info and agreement
URL:https://fohbc.org/event/1st-annual-connecticut-antique-bottle-show-sale/
LOCATION:Joanna’s Restaurant Banquet Room\, 145 Main Street Route 190\, Somers\, CT\, United States
CATEGORIES:Shows
ATTACH;FMTTYPE=image/jpeg:https://fohbc.org/wp-content/uploads/2025/10/Connecticut-16-Nov-2025.jpg
ORGANIZER;CN="Rick Ciralli":MAILTO:cirallir@gmail.com
END:VEVENT
BEGIN:VEVENT
DTSTART;TZID=America/Chicago:20251122T080000
DTEND;TZID=America/Chicago:20251122T130000
DTSTAMP:20260421T232140
CREATED:20250709T013629Z
LAST-MODIFIED:20250709T013629Z
UID:10000034-1763798400-1763816400@fohbc.org
SUMMARY:Wabash Valley Antique Bottle & Pottery Club Presents a Bottle\, Pottery and Tabletop Antique Show and Sale
DESCRIPTION:
URL:https://fohbc.org/event/wabash-valley-antique-bottle-pottery-club-presents-a-bottle-pottery-and-tabletop-antique-show-and-sale/
LOCATION:VFW Post 972\, 218 N. 12th Street\, Terre Haute\, IN\, 47807\, United States
CATEGORIES:Shows
ATTACH;FMTTYPE=image/jpeg:https://fohbc.org/wp-content/uploads/2025/07/Wabash-Valley.jpg
ORGANIZER;CN="Marty Plascak":MAILTO:mplascak@ma.rr.com
END:VEVENT
BEGIN:VEVENT
DTSTART;TZID=America/Chicago:20251122T090000
DTEND;TZID=America/Chicago:20251122T140000
DTSTAMP:20260421T232140
CREATED:20251022T215243Z
LAST-MODIFIED:20251022T215436Z
UID:10000059-1763802000-1763820000@fohbc.org
SUMMARY:Washington Bottle & Collectors Association's Antiques\, Bottle & Collectibles Show & Sale
DESCRIPTION:
URL:https://fohbc.org/event/washington-bottle-collectors-associations-antiques-bottle-collectibles-show-sale/
LOCATION:Cedar Grange #534\, 22531 SE 218th Street\, Maple Valley\, WA\, 98038\, United States
CATEGORIES:Shows
ATTACH;FMTTYPE=image/jpeg:https://fohbc.org/wp-content/uploads/2025/10/Washington-BCA-22-Nov-2025.jpg
ORGANIZER;CN="Pete":MAILTO:shannoncora@msn.com
END:VEVENT
BEGIN:VEVENT
DTSTART;TZID=America/Chicago:20251122T090000
DTEND;TZID=America/Chicago:20251122T150000
DTSTAMP:20260421T232140
CREATED:20250709T003914Z
LAST-MODIFIED:20250903T182227Z
UID:10000008-1763802000-1763823600@fohbc.org
SUMMARY:Clemmons Antique Bottle Show
DESCRIPTION:Continuation of the Greensboro Bottle Show!
URL:https://fohbc.org/event/clemmons-antique-bottle-show/
LOCATION:Village Inn Hotel & Event Center\, 6205 Ramada Drive\, Clemmons\, NC\, 27012\, United States
CATEGORIES:Shows
ATTACH;FMTTYPE=image/jpeg:https://fohbc.org/wp-content/uploads/2025/07/Clemmons2.jpg
ORGANIZER;CN="David Erickson":MAILTO:dave.erickson111@gmail.com
END:VEVENT
BEGIN:VEVENT
DTSTART;TZID=America/Chicago:20251122T090000
DTEND;TZID=America/Chicago:20251122T160000
DTSTAMP:20260421T232140
CREATED:20250930T023416Z
LAST-MODIFIED:20250930T023416Z
UID:10000055-1763802000-1763827200@fohbc.org
SUMMARY:New Orleans Antique Bottle Club's Bottle & Glass Show & Sale
DESCRIPTION:
URL:https://fohbc.org/event/new-orleans-antique-bottle-clubs-bottle-glass-show-sale/
LOCATION:New Orleans Elks Lodge 30\, 2215 Cleary Ave.\, Metairie\, LA\, 70001\, United States
CATEGORIES:Shows
ATTACH;FMTTYPE=image/jpeg:https://fohbc.org/wp-content/uploads/2025/09/New-Orleans-Nov-2025.jpg
ORGANIZER;CN="Kirk Diez":MAILTO:pontilscar@yahoo.com
END:VEVENT
END:VCALENDAR