BEGIN:VCALENDAR
VERSION:2.0
PRODID:-//FOHBC - ECPv6.15.20//NONSGML v1.0//EN
CALSCALE:GREGORIAN
METHOD:PUBLISH
X-WR-CALNAME:FOHBC
X-ORIGINAL-URL:https://fohbc.org
X-WR-CALDESC:Events for FOHBC
REFRESH-INTERVAL;VALUE=DURATION:PT1H
X-Robots-Tag:noindex
X-PUBLISHED-TTL:PT1H
BEGIN:VTIMEZONE
TZID:America/Chicago
BEGIN:DAYLIGHT
TZOFFSETFROM:-0600
TZOFFSETTO:-0500
TZNAME:CDT
DTSTART:20250309T080000
END:DAYLIGHT
BEGIN:STANDARD
TZOFFSETFROM:-0500
TZOFFSETTO:-0600
TZNAME:CST
DTSTART:20251102T070000
END:STANDARD
BEGIN:DAYLIGHT
TZOFFSETFROM:-0600
TZOFFSETTO:-0500
TZNAME:CDT
DTSTART:20260308T080000
END:DAYLIGHT
BEGIN:STANDARD
TZOFFSETFROM:-0500
TZOFFSETTO:-0600
TZNAME:CST
DTSTART:20261101T070000
END:STANDARD
BEGIN:DAYLIGHT
TZOFFSETFROM:-0600
TZOFFSETTO:-0500
TZNAME:CDT
DTSTART:20270314T080000
END:DAYLIGHT
BEGIN:STANDARD
TZOFFSETFROM:-0500
TZOFFSETTO:-0600
TZNAME:CST
DTSTART:20271107T070000
END:STANDARD
END:VTIMEZONE
BEGIN:VEVENT
DTSTART;VALUE=DATE:20260717
DTEND;VALUE=DATE:20260720
DTSTAMP:20260423T000300
CREATED:20260311T004601Z
LAST-MODIFIED:20260311T004813Z
UID:10000117-1784246400-1784505599@fohbc.org
SUMMARY:Shupp's Grove Bottle Festival July 2026
DESCRIPTION:Additional 3 Day Show Coming: September 18 – 20\, 2026
URL:https://fohbc.org/event/shupps-grove-bottle-festival-july-2026/
LOCATION:Shupp’s Grove\, 607 Willow Street\, Reinholds\, PA\, 17569\, United States
CATEGORIES:Shows
ORGANIZER;CN="Steve Guion":MAILTO:william03301956@gmail.com
END:VEVENT
BEGIN:VEVENT
DTSTART;TZID=America/Chicago:20260719T090000
DTEND;TZID=America/Chicago:20260719T150000
DTSTAMP:20260423T000300
CREATED:20260311T010630Z
LAST-MODIFIED:20260311T010630Z
UID:10000119-1784451600-1784473200@fohbc.org
SUMMARY:Capital Region Antique Bottle Club Annual Show & Sale
DESCRIPTION:
URL:https://fohbc.org/event/capital-region-antique-bottle-club-annual-show-sale/
LOCATION:Mabee Farm Historic Site\, 1100 Main Street\, Rotterdam Junction\, NY\, 12150\, United States
CATEGORIES:Shows
ATTACH;FMTTYPE=image/jpeg:https://fohbc.org/wp-content/uploads/2026/03/Capital-Region-ABC-July-2026.jpg
ORGANIZER;CN="Adam Stoddard":MAILTO:acstoddard63@gmail.com
END:VEVENT
END:VCALENDAR