BEGIN:VCALENDAR
VERSION:2.0
PRODID:-//FOHBC - ECPv6.15.20//NONSGML v1.0//EN
CALSCALE:GREGORIAN
METHOD:PUBLISH
X-WR-CALNAME:FOHBC
X-ORIGINAL-URL:https://fohbc.org
X-WR-CALDESC:Events for FOHBC
REFRESH-INTERVAL;VALUE=DURATION:PT1H
X-Robots-Tag:noindex
X-PUBLISHED-TTL:PT1H
BEGIN:VTIMEZONE
TZID:America/Chicago
BEGIN:DAYLIGHT
TZOFFSETFROM:-0600
TZOFFSETTO:-0500
TZNAME:CDT
DTSTART:20240310T080000
END:DAYLIGHT
BEGIN:STANDARD
TZOFFSETFROM:-0500
TZOFFSETTO:-0600
TZNAME:CST
DTSTART:20241103T070000
END:STANDARD
BEGIN:DAYLIGHT
TZOFFSETFROM:-0600
TZOFFSETTO:-0500
TZNAME:CDT
DTSTART:20250309T080000
END:DAYLIGHT
BEGIN:STANDARD
TZOFFSETFROM:-0500
TZOFFSETTO:-0600
TZNAME:CST
DTSTART:20251102T070000
END:STANDARD
BEGIN:DAYLIGHT
TZOFFSETFROM:-0600
TZOFFSETTO:-0500
TZNAME:CDT
DTSTART:20260308T080000
END:DAYLIGHT
BEGIN:STANDARD
TZOFFSETFROM:-0500
TZOFFSETTO:-0600
TZNAME:CST
DTSTART:20261101T070000
END:STANDARD
END:VTIMEZONE
BEGIN:VEVENT
DTSTART;TZID=America/Chicago:20250812T190000
DTEND;TZID=America/Chicago:20250812T210000
DTSTAMP:20260425T114433
CREATED:20250818T170525Z
LAST-MODIFIED:20250822T223508Z
UID:10000038-1755025200-1755032400@fohbc.org
SUMMARY:FOHBC Poisons Webinar Part 2
DESCRIPTION:
URL:https://fohbc.org/event/fohbc-poisons-webinar-part-2/
LOCATION:Zoom Webinar
CATEGORIES:Seminar,Webinar
ATTACH;FMTTYPE=image/jpeg:https://fohbc.org/wp-content/uploads/2025/08/poisons-seminar-1.jpg
ORGANIZER;CN="Michael Seeliger":MAILTO:president@fohbc.org
END:VEVENT
BEGIN:VEVENT
DTSTART;TZID=America/Chicago:20250817T090000
DTEND;TZID=America/Chicago:20250817T143000
DTSTAMP:20260425T114433
CREATED:20250709T010841Z
LAST-MODIFIED:20250709T010841Z
UID:10000020-1755421200-1755441000@fohbc.org
SUMMARY:38th Annual Mid Hudson Bottle Show
DESCRIPTION:
URL:https://fohbc.org/event/38th-annual-mid-hudson-bottle-show/
LOCATION:Poughkeepsie Elks Lodge 275\, 29 Overocker Road\, Poughkeepsie\, NY\, 12603\, United States
CATEGORIES:Shows
ATTACH;FMTTYPE=image/jpeg:https://fohbc.org/wp-content/uploads/2025/07/Mid-Hudson.jpg
ORGANIZER;CN="Mike Stephano":MAILTO:MJSAntique@aol.com
END:VEVENT
END:VCALENDAR