BEGIN:VCALENDAR
VERSION:2.0
PRODID:-//FOHBC - ECPv6.15.20//NONSGML v1.0//EN
CALSCALE:GREGORIAN
METHOD:PUBLISH
X-WR-CALNAME:FOHBC
X-ORIGINAL-URL:https://fohbc.org
X-WR-CALDESC:Events for FOHBC
REFRESH-INTERVAL;VALUE=DURATION:PT1H
X-Robots-Tag:noindex
X-PUBLISHED-TTL:PT1H
BEGIN:VTIMEZONE
TZID:America/Chicago
BEGIN:DAYLIGHT
TZOFFSETFROM:-0600
TZOFFSETTO:-0500
TZNAME:CDT
DTSTART:20240310T080000
END:DAYLIGHT
BEGIN:STANDARD
TZOFFSETFROM:-0500
TZOFFSETTO:-0600
TZNAME:CST
DTSTART:20241103T070000
END:STANDARD
BEGIN:DAYLIGHT
TZOFFSETFROM:-0600
TZOFFSETTO:-0500
TZNAME:CDT
DTSTART:20250309T080000
END:DAYLIGHT
BEGIN:STANDARD
TZOFFSETFROM:-0500
TZOFFSETTO:-0600
TZNAME:CST
DTSTART:20251102T070000
END:STANDARD
BEGIN:DAYLIGHT
TZOFFSETFROM:-0600
TZOFFSETTO:-0500
TZNAME:CDT
DTSTART:20260308T080000
END:DAYLIGHT
BEGIN:STANDARD
TZOFFSETFROM:-0500
TZOFFSETTO:-0600
TZNAME:CST
DTSTART:20261101T070000
END:STANDARD
END:VTIMEZONE
BEGIN:VEVENT
DTSTART;TZID=America/Chicago:20250928T080000
DTEND;TZID=America/Chicago:20250928T140000
DTSTAMP:20260423T043409
CREATED:20250709T011017Z
LAST-MODIFIED:20250822T180017Z
UID:10000021-1759046400-1759068000@fohbc.org
SUMMARY:Mid-Maine Antique Bottle Club's 5th Annual Antique Bottle Show and Sale
DESCRIPTION:
URL:https://fohbc.org/event/mid-maine-antique-bottle-clubs-5th-annual-antique-bottle-show-and-sale/
LOCATION:Topsham Fairground Exhibition Hall\, 32 Community Way\, Topsham\, ME\, United States
CATEGORIES:Shows
ATTACH;FMTTYPE=image/jpeg:https://fohbc.org/wp-content/uploads/2025/07/Mid-Maine.jpg
ORGANIZER;CN="Paul McClure":MAILTO:oldbottles@outlook.com
END:VEVENT
BEGIN:VEVENT
DTSTART;TZID=America/Chicago:20250928T090000
DTEND;TZID=America/Chicago:20250928T150000
DTSTAMP:20260423T043409
CREATED:20250708T214812Z
LAST-MODIFIED:20250709T003335Z
UID:10000005-1759050000-1759071600@fohbc.org
SUMMARY:Historic Batsto Village - The Fall Antiques & Bottle Show
DESCRIPTION:
URL:https://fohbc.org/event/historic-batsto-village-the-fall-antiques-bottle-show/
LOCATION:Historic Batsto Village\, Wharton State Forest\, Rt. 542 Pleasant Mills Road\, Hammonton\, NJ\, 08037\, United States
CATEGORIES:Shows
ATTACH;FMTTYPE=image/jpeg:https://fohbc.org/wp-content/uploads/2025/07/Batsto-Village.jpg
ORGANIZER;CN="Jim Hammell":MAILTO:hammelljm@gmail.com
GEO:39.6433733;74.6508249
X-APPLE-STRUCTURED-LOCATION;VALUE=URI;X-ADDRESS=Historic Batsto Village Wharton State Forest Rt. 542 Pleasant Mills Road Hammonton NJ 08037 United States;X-APPLE-RADIUS=500;X-TITLE=Wharton State Forest\, Rt. 542 Pleasant Mills Road:geo:74.6508249,39.6433733
END:VEVENT
END:VCALENDAR