BEGIN:VCALENDAR
VERSION:2.0
PRODID:-//FOHBC - ECPv6.15.20//NONSGML v1.0//EN
CALSCALE:GREGORIAN
METHOD:PUBLISH
X-WR-CALNAME:FOHBC
X-ORIGINAL-URL:https://fohbc.org
X-WR-CALDESC:Events for FOHBC
REFRESH-INTERVAL;VALUE=DURATION:PT1H
X-Robots-Tag:noindex
X-PUBLISHED-TTL:PT1H
BEGIN:VTIMEZONE
TZID:America/Chicago
BEGIN:DAYLIGHT
TZOFFSETFROM:-0600
TZOFFSETTO:-0500
TZNAME:CDT
DTSTART:20240310T080000
END:DAYLIGHT
BEGIN:STANDARD
TZOFFSETFROM:-0500
TZOFFSETTO:-0600
TZNAME:CST
DTSTART:20241103T070000
END:STANDARD
BEGIN:DAYLIGHT
TZOFFSETFROM:-0600
TZOFFSETTO:-0500
TZNAME:CDT
DTSTART:20250309T080000
END:DAYLIGHT
BEGIN:STANDARD
TZOFFSETFROM:-0500
TZOFFSETTO:-0600
TZNAME:CST
DTSTART:20251102T070000
END:STANDARD
BEGIN:DAYLIGHT
TZOFFSETFROM:-0600
TZOFFSETTO:-0500
TZNAME:CDT
DTSTART:20260308T080000
END:DAYLIGHT
BEGIN:STANDARD
TZOFFSETFROM:-0500
TZOFFSETTO:-0600
TZNAME:CST
DTSTART:20261101T070000
END:STANDARD
END:VTIMEZONE
BEGIN:VEVENT
DTSTART;TZID=America/Chicago:20251003T100000
DTEND;TZID=America/Chicago:20251004T150000
DTSTAMP:20260422T202535
CREATED:20250709T013127Z
LAST-MODIFIED:20250709T013127Z
UID:10000032-1759485600-1759590000@fohbc.org
SUMMARY:Sacramento Valley Museum Antique Bottle Show
DESCRIPTION:
URL:https://fohbc.org/event/sacramento-valley-museum-antique-bottle-show/
LOCATION:Sacramento Valley Museum\, 1491 E Street\, Williams\, CA\, 95987\, United States
CATEGORIES:Shows
ATTACH;FMTTYPE=image/jpeg:https://fohbc.org/wp-content/uploads/2025/07/Sacramento-Valley.jpg
ORGANIZER;CN="Cristy and Slim Edwards":MAILTO:closethegatefenceco@yahoo.com
END:VEVENT
BEGIN:VEVENT
DTSTART;TZID=America/Chicago:20251003T120000
DTEND;TZID=America/Chicago:20251003T160000
DTSTAMP:20260422T202535
CREATED:20250709T011141Z
LAST-MODIFIED:20250928T151111Z
UID:10000022-1759492800-1759507200@fohbc.org
SUMMARY:8th Annual Mississippi Gulf Coast Bottle & Collectibles Show & Sale
DESCRIPTION:
URL:https://fohbc.org/event/8th-annual-mississippi-gulf-coast-bottle-collectibles-show-sale/
LOCATION:Joppa Shrine Temple\, 13280 Shriners Blvd\, Biloxi\, MS\, 39532\, United States
CATEGORIES:Shows
ATTACH;FMTTYPE=image/jpeg:https://fohbc.org/wp-content/uploads/2025/07/Mississippi-Gulf-Coast.jpg
ORGANIZER;CN="Peter Taggard":MAILTO:petertaggard@yahoo.com
END:VEVENT
BEGIN:VEVENT
DTSTART;TZID=America/Chicago:20251004T080000
DTEND;TZID=America/Chicago:20251004T140000
DTSTAMP:20260422T202535
CREATED:20250709T012350Z
LAST-MODIFIED:20250822T180320Z
UID:10000028-1759564800-1759586400@fohbc.org
SUMMARY:Pickens South Carolina 3rd Annual Antique Bottle Show & Sale
DESCRIPTION:
URL:https://fohbc.org/event/pickens-south-carolina-antique-bottle-show-sale/
LOCATION:The Market at the Mill\, 225 Pumpkintown Hwy\, Pickens\, SC\, 29671\, United States
CATEGORIES:Shows
ATTACH;FMTTYPE=image/jpeg:https://fohbc.org/wp-content/uploads/2025/07/Pickens-SC.jpg
ORGANIZER;CN="Samuel Rhodes":MAILTO:pickensbottleclub@gmail.com
END:VEVENT
BEGIN:VEVENT
DTSTART;TZID=America/Chicago:20251004T090000
DTEND;TZID=America/Chicago:20251004T150000
DTSTAMP:20260422T202535
CREATED:20250709T012910Z
LAST-MODIFIED:20250709T012910Z
UID:10000031-1759568400-1759590000@fohbc.org
SUMMARY:53rd Richmond Antique Bottle & Collectibles Show
DESCRIPTION:
URL:https://fohbc.org/event/53rd-richmond-antique-bottle-collectibles-show/
LOCATION:Chesterfield County Fairgrounds\, 10300 Courthouse Road\, Chesterfield\, VA\, 23832\, United States
CATEGORIES:Shows
ATTACH;FMTTYPE=image/jpeg:https://fohbc.org/wp-content/uploads/2025/07/Richmond.jpg
ORGANIZER;CN="Tony Townsend":MAILTO:richbottleclub@comcast.net
END:VEVENT
END:VCALENDAR