BEGIN:VCALENDAR
VERSION:2.0
PRODID:-//FOHBC - ECPv6.15.20//NONSGML v1.0//EN
CALSCALE:GREGORIAN
METHOD:PUBLISH
X-WR-CALNAME:FOHBC
X-ORIGINAL-URL:https://fohbc.org
X-WR-CALDESC:Events for FOHBC
REFRESH-INTERVAL;VALUE=DURATION:PT1H
X-Robots-Tag:noindex
X-PUBLISHED-TTL:PT1H
BEGIN:VTIMEZONE
TZID:America/Chicago
BEGIN:DAYLIGHT
TZOFFSETFROM:-0600
TZOFFSETTO:-0500
TZNAME:CDT
DTSTART:20250309T080000
END:DAYLIGHT
BEGIN:STANDARD
TZOFFSETFROM:-0500
TZOFFSETTO:-0600
TZNAME:CST
DTSTART:20251102T070000
END:STANDARD
BEGIN:DAYLIGHT
TZOFFSETFROM:-0600
TZOFFSETTO:-0500
TZNAME:CDT
DTSTART:20260308T080000
END:DAYLIGHT
BEGIN:STANDARD
TZOFFSETFROM:-0500
TZOFFSETTO:-0600
TZNAME:CST
DTSTART:20261101T070000
END:STANDARD
BEGIN:DAYLIGHT
TZOFFSETFROM:-0600
TZOFFSETTO:-0500
TZNAME:CDT
DTSTART:20270314T080000
END:DAYLIGHT
BEGIN:STANDARD
TZOFFSETFROM:-0500
TZOFFSETTO:-0600
TZNAME:CST
DTSTART:20271107T070000
END:STANDARD
END:VTIMEZONE
BEGIN:VEVENT
DTSTART;VALUE=DATE:20260207
DTEND;VALUE=DATE:20260208
DTSTAMP:20260425T085003
CREATED:20260128T212329Z
LAST-MODIFIED:20260128T212329Z
UID:10000104-1770422400-1770508799@fohbc.org
SUMMARY:2026 Rome Bottle & Advertising Show
DESCRIPTION:
URL:https://fohbc.org/event/2026-rome-bottle-advertising-show/
LOCATION:VFW Post 2632\, Cedartown Hwy\, Rome\, GA\, 30161\, United States
CATEGORIES:Shows
ATTACH;FMTTYPE=image/jpeg:https://fohbc.org/wp-content/uploads/2026/01/Rome-Ga-Feb-2026.jpg
ORGANIZER;CN="Todd Edwards":MAILTO:romebottleshow@gmail.com
END:VEVENT
END:VCALENDAR