BEGIN:VCALENDAR
VERSION:2.0
PRODID:-//FOHBC - ECPv6.15.20//NONSGML v1.0//EN
CALSCALE:GREGORIAN
METHOD:PUBLISH
X-ORIGINAL-URL:https://fohbc.org
X-WR-CALDESC:Events for FOHBC
REFRESH-INTERVAL;VALUE=DURATION:PT1H
X-Robots-Tag:noindex
X-PUBLISHED-TTL:PT1H
BEGIN:VTIMEZONE
TZID:America/Chicago
BEGIN:DAYLIGHT
TZOFFSETFROM:-0600
TZOFFSETTO:-0500
TZNAME:CDT
DTSTART:20250309T080000
END:DAYLIGHT
BEGIN:STANDARD
TZOFFSETFROM:-0500
TZOFFSETTO:-0600
TZNAME:CST
DTSTART:20251102T070000
END:STANDARD
BEGIN:DAYLIGHT
TZOFFSETFROM:-0600
TZOFFSETTO:-0500
TZNAME:CDT
DTSTART:20260308T080000
END:DAYLIGHT
BEGIN:STANDARD
TZOFFSETFROM:-0500
TZOFFSETTO:-0600
TZNAME:CST
DTSTART:20261101T070000
END:STANDARD
BEGIN:DAYLIGHT
TZOFFSETFROM:-0600
TZOFFSETTO:-0500
TZNAME:CDT
DTSTART:20270314T080000
END:DAYLIGHT
BEGIN:STANDARD
TZOFFSETFROM:-0500
TZOFFSETTO:-0600
TZNAME:CST
DTSTART:20271107T070000
END:STANDARD
END:VTIMEZONE
BEGIN:VEVENT
DTSTART;TZID=America/Chicago:20260612T180000
DTEND;TZID=America/Chicago:20260612T220000
DTSTAMP:20260423T185824
CREATED:20260413T172802Z
LAST-MODIFIED:20260422T200545Z
UID:10000130-1781287200-1781301600@fohbc.org
SUMMARY:Annual National Painted Soda Bottle Collectors Association's Annual Meeting
DESCRIPTION:
URL:https://fohbc.org/event/annual-national-painted-soda-bottle-collectors-associations-annual-meeting/
LOCATION:Hampton Inn Tulsa Central\, 3418 S 79th E Ave\, Tulsa\, OK\, 74145\, United States
CATEGORIES:Shows
ATTACH;FMTTYPE=image/jpeg:https://fohbc.org/wp-content/uploads/2026/04/Painted-Soda-Bottle-Collectors-Assn-June-2026-v2.jpg
END:VEVENT
BEGIN:VEVENT
DTSTART;TZID=America/Chicago:20260613T080000
DTEND;TZID=America/Chicago:20260613T140000
DTSTAMP:20260423T185824
CREATED:20251208T162527Z
LAST-MODIFIED:20251208T162527Z
UID:10000085-1781337600-1781359200@fohbc.org
SUMMARY:Little Rhody Bottle Club Swap Meet
DESCRIPTION:
URL:https://fohbc.org/event/little-rhody-bottle-club-swap-meet-2/2026-06-13/
LOCATION:Leonard’s Antiques\, 600 Taunton Avenue\, Seekonk\, MA\, 02771\, United States
CATEGORIES:Swap Meet
ATTACH;FMTTYPE=image/jpeg:https://fohbc.org/wp-content/uploads/2025/12/Little-Rhody-BC-12-Apr-2026v3.jpg
ORGANIZER;CN="Bill or Linda Rose":MAILTO:sierramadre@comcast.net
END:VEVENT
BEGIN:VEVENT
DTSTART;TZID=America/Chicago:20260613T080000
DTEND;TZID=America/Chicago:20260613T160000
DTSTAMP:20260423T185824
CREATED:20260413T181902Z
LAST-MODIFIED:20260413T181902Z
UID:10000131-1781337600-1781366400@fohbc.org
SUMMARY:Tulsa Antiques and Bottle Club's 48th Annual Antique Advertising and Bottle Show
DESCRIPTION:
URL:https://fohbc.org/event/tulsa-antiques-and-bottle-clubs-48th-annual-antique-advertising-and-bottle-show/
LOCATION:Tulsa Fairgrounds SageNet Center\, Tulsa Expo Center\, 4145 E 21st Street\, Tulsa\, OK\, 74114\, United States
CATEGORIES:Shows
ATTACH;FMTTYPE=image/jpeg:https://fohbc.org/wp-content/uploads/2026/04/Tulsa-ABC-June-2026.jpg
ORGANIZER;CN="Henry Tankersley":MAILTO:henrytankersley3@gmail.com
END:VEVENT
BEGIN:VEVENT
DTSTART;TZID=America/Chicago:20260613T090000
DTEND;TZID=America/Chicago:20260613T150000
DTSTAMP:20260423T185824
CREATED:20251201T214612Z
LAST-MODIFIED:20251201T214612Z
UID:10000074-1781341200-1781362800@fohbc.org
SUMMARY:The Historical Bottle Diggers of Virginia Presents the 54th Antique Bottle & Collectible Show & Sale
DESCRIPTION:
URL:https://fohbc.org/event/the-historical-bottle-diggers-of-virginia-presents-the-54th-antique-bottle-collectible-show-sale/
LOCATION:Weyers Cave Community Center\, 682 Weyers Cave Road\, Weyers Cave\, VA\, 24486\, United States
CATEGORIES:Shows
ATTACH;FMTTYPE=image/jpeg:https://fohbc.org/wp-content/uploads/2025/12/Weyers-Cave-13-June-2026.jpg
ORGANIZER;CN="Sonny Smiley%2C Show Chairman":MAILTO:lithiaman1@yahoo.com
END:VEVENT
BEGIN:VEVENT
DTSTART;TZID=America/Chicago:20260614T090000
DTEND;TZID=America/Chicago:20260614T140000
DTSTAMP:20260423T185824
CREATED:20260220T161714Z
LAST-MODIFIED:20260220T163509Z
UID:10000110-1781427600-1781445600@fohbc.org
SUMMARY:Poland Spring Bottle & Memorabilia Show
DESCRIPTION:A brand-new event featuring antique bottles\, historic advertising\, ephemera\, and collective memorabilia tied to Poland Spring and Maine. Bottle collectors\, antique dealers\, and enthusiasts from across New England will enjoy a full weekend of events\, all held at Poland Spring Preservation Park\, home of Poland Spring Resort and Poland Spring Preservation Society\, with educational presentations\, guest speakers and a chance to see rare pieces of history. Spend the weekend exploring\, collecting\, and celebrating the rich history of Poland Spring. \nVisit our historic museums all weekend long\, catch a presentation by one of our guest speakers on Friday and Saturday\, and get tickets to the special event Saturday evening. The Inaugural Bottle & Memorabilia Show & Sale will be held at the Poland Spring Water Museum (115 Preservation Way\, Poland Spring Maine 04274) on Sunday\, June 14th from 9 a.m. to 2 p.m. with an Early Bird Ticket at 8 a.m. \nWhether you’re a long-time collector or simply curious\, this is a wonderful opportunity to explore unique pieces of history and maybe even find something to add to your collection. \nOnsite hotel rooms are available at Poland Spring Resort. Mention you are attending the bottle show for a 10% discount. https://polandspringps.org/poland-spring-bottle-memorabilia-show/
URL:https://fohbc.org/event/poland-spring-bottle-memorabilia-show/
LOCATION:Poland Spring Water Museum\, 115 Preservation Way\, Poland Spring\, ME\, 04274\, United States
CATEGORIES:Shows
ATTACH;FMTTYPE=image/jpeg:https://fohbc.org/wp-content/uploads/2026/02/Poland-Spring-June-2026v2.jpg
END:VEVENT
END:VCALENDAR